BEGIN:VCALENDAR
VERSION:2.0
PRODID:-//Go!Gaming - ECPv6.2.3.2//NONSGML v1.0//EN
CALSCALE:GREGORIAN
METHOD:PUBLISH
X-ORIGINAL-URL:https://www.gogaming.gg
X-WR-CALDESC:Evenementen voor Go!Gaming
REFRESH-INTERVAL;VALUE=DURATION:PT1H
X-Robots-Tag:noindex
X-PUBLISHED-TTL:PT1H
BEGIN:VTIMEZONE
TZID:Europe/Amsterdam
BEGIN:DAYLIGHT
TZOFFSETFROM:+0100
TZOFFSETTO:+0200
TZNAME:CEST
DTSTART:20220327T010000
END:DAYLIGHT
BEGIN:STANDARD
TZOFFSETFROM:+0200
TZOFFSETTO:+0100
TZNAME:CET
DTSTART:20221030T010000
END:STANDARD
END:VTIMEZONE
BEGIN:VEVENT
DTSTART;TZID=Europe/Amsterdam:20220819T190000
DTEND;TZID=Europe/Amsterdam:20220819T230000
DTSTAMP:20260425T060557
CREATED:20220725T214656Z
LAST-MODIFIED:20220730T104316Z
UID:10000378-1660935600-1660950000@www.gogaming.gg
SUMMARY:Tournament Night: Rocket League 2v2 Enlightened by Philips Hue
DESCRIPTION:Tournament omschrijving\nHet is tijd voor een Rocket League Tournament bij Go!Gaming! Speel op 19 augustus mee in het 2 vs 2 Rocket League Tournament bij Go!Gaming en maak kans op toffe Philips Hue prijzen.  \nDe check in start om 19:00 en allebei de spelers hebben een Tournament Ticket nodig om mee te doen. \nMet een tournament ticket ontvang je het volgende\n\nDeelname aan 1 toernooi naar keuze\n1 uur gametime op je account\nEen drankje naar keuze\n\nEr zal worden gespeeld op de Gaming PC’s van Go!Gaming\, het aansluiten van een controller is toegestaan. Heb je nog geen teamgenoot? Misschien kan je iemand vinden in onze Discord community! \nPrijzen\nEerste plek: 2x Duo Pack Philips Hue Light Bar\nTweede plek: 2x Single Pack Philips Hue Light Bar \nMeer informatie over het toernooi en de live brackets\n\nToornament pagina Maastricht\nToornament pagina Groningen\nToornament pagina Rotterdam\nToornament pagina Utrecht 
URL:https://www.gogaming.gg/event/tournament-night-rocket-league-2v2-enlightened-by-philips-hue/
LOCATION:Elke Go!Gaming Locatie\, Nederland
CATEGORIES:Overig
ATTACH;FMTTYPE=image/jpeg:https://www.gogaming.gg/wp-content/uploads/2022/07/GG_Banner_RocketLeague.jpg
END:VEVENT
END:VCALENDAR