BEGIN:VCALENDAR
VERSION:2.0
PRODID:-//Go!Gaming - ECPv6.2.3.2//NONSGML v1.0//EN
CALSCALE:GREGORIAN
METHOD:PUBLISH
X-WR-CALNAME:Go!Gaming
X-ORIGINAL-URL:https://www.gogaming.gg
X-WR-CALDESC:Evenementen voor Go!Gaming
REFRESH-INTERVAL;VALUE=DURATION:PT1H
X-Robots-Tag:noindex
X-PUBLISHED-TTL:PT1H
BEGIN:VTIMEZONE
TZID:Europe/Amsterdam
BEGIN:DAYLIGHT
TZOFFSETFROM:+0100
TZOFFSETTO:+0200
TZNAME:CEST
DTSTART:20220327T010000
END:DAYLIGHT
BEGIN:STANDARD
TZOFFSETFROM:+0200
TZOFFSETTO:+0100
TZNAME:CET
DTSTART:20221030T010000
END:STANDARD
END:VTIMEZONE
BEGIN:VEVENT
DTSTART;TZID=Europe/Amsterdam:20220911T160000
DTEND;TZID=Europe/Amsterdam:20220911T180000
DTSTAMP:20260423T221009
CREATED:20220610T105804Z
LAST-MODIFIED:20220920T180059Z
UID:10000389-1662912000-1662919200@www.gogaming.gg
SUMMARY:Let's Play Ubisoft
DESCRIPTION:Om de week is op zondag onze Try-Zone in het thema van Ubisoft.  Kom samen eens Riders Republic\, Just Dance 2022 of Assassin’s Creed uitproberen.  \nDeelname is gratis voor alle Pathé en Go!Gaming bezoekers\, dus kom langs\, doe mee en maak kans op leuke goodies!
URL:https://www.gogaming.gg/event/lets-play-ubisoft/2022-09-11/
ATTACH;FMTTYPE=image/png:https://www.gogaming.gg/wp-content/uploads/2022/06/WebsiteHeader_Ubisoft.png
END:VEVENT
BEGIN:VEVENT
DTSTART;TZID=Europe/Amsterdam:20220911T160000
DTEND;TZID=Europe/Amsterdam:20220911T220000
DTSTAMP:20260423T221009
CREATED:20220819T141950Z
LAST-MODIFIED:20220819T142023Z
UID:10000375-1662912000-1662933600@www.gogaming.gg
SUMMARY:League Of Legends LEC Summer 2022
DESCRIPTION:De League of Legends LEC Summer Split is in volle gang. De finale wordt uitgezonden op 11 september in 4 Pathé Bioscopen. \nOp elke locatie vindt ook nog een live evenement plaats! Bij Pathé Utrecht Leidsche Rijn\, Pathé Schouwburgplein\, Pathé Groningen en Pathé Maastricht kan je vanaf 16:00 in het gaming centre meedoen aan een 1v1 gaming toernooi. Deelname is gratis voor alle bezoekers in bezit van een ticket voor de Viewing Party. Doe mee en maak kans op leuke goodies! \nDe ticketverkoop start op 23 augustus.
URL:https://www.gogaming.gg/event/league-of-legends-lec-summer-2022/
LOCATION:Elke Go!Gaming Locatie\, Nederland
ATTACH;FMTTYPE=image/jpeg:https://www.gogaming.gg/wp-content/uploads/2022/08/lol_lec2022-scaled.jpg
END:VEVENT
END:VCALENDAR