BEGIN:VCALENDAR
VERSION:2.0
PRODID:-//Go!Gaming - ECPv6.2.3.2//NONSGML v1.0//EN
CALSCALE:GREGORIAN
METHOD:PUBLISH
X-WR-CALNAME:Go!Gaming
X-ORIGINAL-URL:https://www.gogaming.gg
X-WR-CALDESC:Evenementen voor Go!Gaming
REFRESH-INTERVAL;VALUE=DURATION:PT1H
X-Robots-Tag:noindex
X-PUBLISHED-TTL:PT1H
BEGIN:VTIMEZONE
TZID:Europe/Amsterdam
BEGIN:DAYLIGHT
TZOFFSETFROM:+0100
TZOFFSETTO:+0200
TZNAME:CEST
DTSTART:20220327T010000
END:DAYLIGHT
BEGIN:STANDARD
TZOFFSETFROM:+0200
TZOFFSETTO:+0100
TZNAME:CET
DTSTART:20221030T010000
END:STANDARD
END:VTIMEZONE
BEGIN:VEVENT
DTSTART;TZID=Europe/Amsterdam:20220916T190000
DTEND;TZID=Europe/Amsterdam:20220916T230000
DTSTAMP:20260423T201935
CREATED:20220725T222821Z
LAST-MODIFIED:20220821T203710Z
UID:10000377-1663354800-1663369200@www.gogaming.gg
SUMMARY:Tournament Night: Valorant Deathmatch Enlightened by Philips Hue
DESCRIPTION:Tournament omschrijving\nHet is tijd voor een Valorant Tournament bij Go!Gaming! Schrijf je individueel in en doe mee in een spannende Deathmatch Game in Valorant en maak kans op toffe Philips Hue prijzen. Na afloop van het lokale toernooi spelen we nog een Valorant game met de finalisten van alle Go!Gaming centers voor extra prijzen.  \nDe check in start om 19:00 en je hebt een Tournament Ticket nodig om mee te doen. \nMet het Tournament Ticket ontvang je het volgende\n\nDeelname aan 1 toernooi naar keuze\n1 uur gametime op je account\nEen drankje naar keuze\n\nEr zal worden gespeeld op de Gaming PC’s van Go!Gaming. \nPrijzen\nEerste plek: 1x Duo Pack Philips Hue Light Bar\nTweede plek: 1x Single Pack Philips Hue Light Bar \nGrand Final Prijzen\nEerste plek: 4x Philips Hue LED strip\nTweede plek: 2x Philips Hue LED strip\nDerde plek: 1x Philips Hue LED strip \nMeer informatie over het toernooi en de live brackets\n\nToornament pagina Maastricht [coming soon]\nToornament pagina Groningen [coming soon]\nToornament pagina Rotterdam [coming soon]\nToornament pagina Utrecht [coming soon]\n\n  \nTot slot organiseren we een Valorant Champions viewing party op zondag 18 september\, kom je met ons mee kijken in de bioscoop? Lees hier voor meer informatie + tickets!
URL:https://www.gogaming.gg/event/tournament-night-valorant-deathmatch-enlightened-by-philips-hue/
LOCATION:Elke Go!Gaming Locatie\, Nederland
CATEGORIES:Overig
ATTACH;FMTTYPE=image/jpeg:https://www.gogaming.gg/wp-content/uploads/2022/07/GG_Banner_Valorant.jpg
END:VEVENT
END:VCALENDAR