BEGIN:VCALENDAR
VERSION:2.0
PRODID:-//Go!Gaming - ECPv6.2.3.2//NONSGML v1.0//EN
CALSCALE:GREGORIAN
METHOD:PUBLISH
X-ORIGINAL-URL:https://www.gogaming.gg
X-WR-CALDESC:Evenementen voor Go!Gaming
REFRESH-INTERVAL;VALUE=DURATION:PT1H
X-Robots-Tag:noindex
X-PUBLISHED-TTL:PT1H
BEGIN:VTIMEZONE
TZID:Europe/Amsterdam
BEGIN:DAYLIGHT
TZOFFSETFROM:+0100
TZOFFSETTO:+0200
TZNAME:CEST
DTSTART:20220327T010000
END:DAYLIGHT
BEGIN:STANDARD
TZOFFSETFROM:+0200
TZOFFSETTO:+0100
TZNAME:CET
DTSTART:20221030T010000
END:STANDARD
END:VTIMEZONE
BEGIN:VEVENT
DTSTART;TZID=Europe/Amsterdam:20221008T140000
DTEND;TZID=Europe/Amsterdam:20221008T220000
DTSTAMP:20260423T171225
CREATED:20220901T132327Z
LAST-MODIFIED:20220920T133912Z
UID:10000567-1665237600-1665266400@www.gogaming.gg
SUMMARY:Viaplay Premier League Series
DESCRIPTION:Voetbalfans opgelet! Go!Gaming organiseert samen met ViaPlay de ViaPlay Premier League Series. 5 weken lang is op zaterdag onze try-area geopend en wordt er FIFA gespeeld. Op 29 oktober vindt de grote finale van alle gekwalificeerden plaats in de H20 Esports Arena. Ben jij bekend met FIFA 22? Kom dan zeker langs en maak kans op de hoofdprijs!  \nDe hoofdprijs is een volledig verzorgde reis voor jou en een vriend(in) naar een wedstrijd van Liverpool in de Premier League \nDeelname is gratis\, dus dit wil je absoluut niet missen!
URL:https://www.gogaming.gg/event/viaplay-fifa-premier-league-2022-09-24/
LOCATION:Go!Gaming Maastricht\, Sphinxcour 1\, Maastricht\, Limburg\, 6211 XZ\, Nederland
CATEGORIES:Overig
ATTACH;FMTTYPE=image/jpeg:https://www.gogaming.gg/wp-content/uploads/2022/09/GG_WebsiteHeader_1440x540.jpg
END:VEVENT
END:VCALENDAR