BEGIN:VCALENDAR
VERSION:2.0
PRODID:-//Go!Gaming - ECPv6.2.3.2//NONSGML v1.0//EN
CALSCALE:GREGORIAN
METHOD:PUBLISH
X-ORIGINAL-URL:https://www.gogaming.gg
X-WR-CALDESC:Evenementen voor Go!Gaming
REFRESH-INTERVAL;VALUE=DURATION:PT1H
X-Robots-Tag:noindex
X-PUBLISHED-TTL:PT1H
BEGIN:VTIMEZONE
TZID:Europe/Amsterdam
BEGIN:DAYLIGHT
TZOFFSETFROM:+0100
TZOFFSETTO:+0200
TZNAME:CEST
DTSTART:20220327T010000
END:DAYLIGHT
BEGIN:STANDARD
TZOFFSETFROM:+0200
TZOFFSETTO:+0100
TZNAME:CET
DTSTART:20221030T010000
END:STANDARD
END:VTIMEZONE
BEGIN:VEVENT
DTSTART;TZID=Europe/Amsterdam:20221025T190000
DTEND;TZID=Europe/Amsterdam:20221025T230000
DTSTAMP:20260423T123008
CREATED:20221023T210155Z
LAST-MODIFIED:20221023T210353Z
UID:10000578-1666724400-1666738800@www.gogaming.gg
SUMMARY:Age of Empires 25 jaar anniversary
DESCRIPTION:Op dinsdag 25 oktober viert Age Of Empires zijn 25ste verjaardag! \nDaarom is het mogelijk om GRATIS Age Of Empires te spelen in al onze gaming centers vanaf 19:00. \nComplete een game in het center en stuur in onze discord de volgende zin:\n“@GO![jouwstad] \, ik heb Age Of Empires bij Go!Gaming [jouwstad] gespeeld!” en maak kans op toffe prijzen! We geven Xbox Game pass codes weg. Daarmee kan je 3 maanden lang honderden leuke games spelen op jouw XBOX of PC. \nDeelname aan dit evenement is gratis voor alle Go!Gaming en Pathé bezoekers. Je hoeft je van te voren niet in te schrijven.
URL:https://www.gogaming.gg/event/age-of-empires-25-jaar-anniversary/
LOCATION:Elke Go!Gaming Locatie\, Nederland
ATTACH;FMTTYPE=image/png:https://www.gogaming.gg/wp-content/uploads/2022/04/AOE_Header.png
END:VEVENT
END:VCALENDAR