BEGIN:VCALENDAR
VERSION:2.0
PRODID:-//Go!Gaming - ECPv6.2.3.2//NONSGML v1.0//EN
CALSCALE:GREGORIAN
METHOD:PUBLISH
X-ORIGINAL-URL:https://www.gogaming.gg
X-WR-CALDESC:Evenementen voor Go!Gaming
REFRESH-INTERVAL;VALUE=DURATION:PT1H
X-Robots-Tag:noindex
X-PUBLISHED-TTL:PT1H
BEGIN:VTIMEZONE
TZID:Europe/Amsterdam
BEGIN:DAYLIGHT
TZOFFSETFROM:+0100
TZOFFSETTO:+0200
TZNAME:CEST
DTSTART:20220327T010000
END:DAYLIGHT
BEGIN:STANDARD
TZOFFSETFROM:+0200
TZOFFSETTO:+0100
TZNAME:CET
DTSTART:20221030T010000
END:STANDARD
END:VTIMEZONE
BEGIN:VEVENT
DTSTART;TZID=Europe/Amsterdam:20221029T130000
DTEND;TZID=Europe/Amsterdam:20221029T200000
DTSTAMP:20260423T170741
CREATED:20221021T073721Z
LAST-MODIFIED:20221021T073721Z
UID:10000576-1667048400-1667073600@www.gogaming.gg
SUMMARY:Viaplay Premier League Series Finale
DESCRIPTION:Afgelopen weken hebben er in elke Go!Gaming locatie spannende FIFA 23 kwalificaties plaatsgevonden. Op elke locatie zijn de beste spelers geselecteerd om te spelen tijdens de grote finale. \nZaterdag 29 oktober zal de finale plaatsvinden bij het H20 Rabo Esports Stadium\, waar de winnaars live zullen strijden om de hoofdprijs\, namelijk een trip naar een wedstrijd van Liverpool voor maar liefst 2 personen! \nWil jij live zien welk team er met de hoofdprijs vandoor gaat? Meld je dan snel aan als toeschouwer via de website van H20.
URL:https://www.gogaming.gg/event/viaplay-premier-league-series-finale/
LOCATION:Go!Gaming Purmerend\, Spinnekop 2-3\, Purmerend\, 1444GN\, Nederland
ATTACH;FMTTYPE=image/jpeg:https://www.gogaming.gg/wp-content/uploads/2022/10/H20_Banner_1200x450.jpg
END:VEVENT
END:VCALENDAR