BEGIN:VCALENDAR
VERSION:2.0
PRODID:-//Go!Gaming - ECPv6.2.3.2//NONSGML v1.0//EN
CALSCALE:GREGORIAN
METHOD:PUBLISH
X-ORIGINAL-URL:https://www.gogaming.gg
X-WR-CALDESC:Evenementen voor Go!Gaming
REFRESH-INTERVAL;VALUE=DURATION:PT1H
X-Robots-Tag:noindex
X-PUBLISHED-TTL:PT1H
BEGIN:VTIMEZONE
TZID:Europe/Amsterdam
BEGIN:DAYLIGHT
TZOFFSETFROM:+0100
TZOFFSETTO:+0200
TZNAME:CEST
DTSTART:20220327T010000
END:DAYLIGHT
BEGIN:STANDARD
TZOFFSETFROM:+0200
TZOFFSETTO:+0100
TZNAME:CET
DTSTART:20221030T010000
END:STANDARD
END:VTIMEZONE
BEGIN:VEVENT
DTSTART;TZID=Europe/Amsterdam:20221104T190000
DTEND;TZID=Europe/Amsterdam:20221104T220000
DTSTAMP:20260423T103029
CREATED:20221026T094047Z
LAST-MODIFIED:20221026T094348Z
UID:10000579-1667588400-1667599200@www.gogaming.gg
SUMMARY:Tournament Night: League of legends (online)
DESCRIPTION:Op 4 november organiseert Go!Gaming een online League of Legends toernooi in samenwerking met Philips Hue. \nDoe mee aan het 5 vs 5 online LoL toernooi en maak kans op geweldige Philips Hue prijzen. Het gehele toernooi vindt online plaats via Discord en FACEIT. \nDeelname is gratis\, dus verzamel je vrienden en doe mee! Aanmelden kan via de FACEIT toernooipagina. \nPrijzen:\nEerste plek: 5x Philips Hue Duo bar + 5x Philips Hue bridge\nTweede plek: 5x 3 uur gametime bij Go!Gaming \nJoin alvast onze Discord server zodat je niks mist.
URL:https://www.gogaming.gg/event/tournament-night-league-of-legends-online/
LOCATION:Discord\, Online\, Discord\, Nederland
ATTACH;FMTTYPE=image/jpeg:https://www.gogaming.gg/wp-content/uploads/2022/07/GG_Banner_LeagueOfLegends.jpg
END:VEVENT
END:VCALENDAR