BEGIN:VCALENDAR
VERSION:2.0
PRODID:-//Go!Gaming - ECPv6.2.3.2//NONSGML v1.0//EN
CALSCALE:GREGORIAN
METHOD:PUBLISH
X-ORIGINAL-URL:https://www.gogaming.gg
X-WR-CALDESC:Evenementen voor Go!Gaming
REFRESH-INTERVAL;VALUE=DURATION:PT1H
X-Robots-Tag:noindex
X-PUBLISHED-TTL:PT1H
BEGIN:VTIMEZONE
TZID:Europe/Amsterdam
BEGIN:DAYLIGHT
TZOFFSETFROM:+0100
TZOFFSETTO:+0200
TZNAME:CEST
DTSTART:20220327T010000
END:DAYLIGHT
BEGIN:STANDARD
TZOFFSETFROM:+0200
TZOFFSETTO:+0100
TZNAME:CET
DTSTART:20221030T010000
END:STANDARD
END:VTIMEZONE
BEGIN:VEVENT
DTSTART;TZID=Europe/Amsterdam:20221105T220000
DTEND;TZID=Europe/Amsterdam:20221106T050000
DTSTAMP:20260423T071107
CREATED:20220819T145608Z
LAST-MODIFIED:20221005T155459Z
UID:10000552-1667685600-1667710800@www.gogaming.gg
SUMMARY:League of Legends Worlds 2022
DESCRIPTION:Dit is het moment waar alle Leauge of Legends Esports fans op hebben gewacht. De Worlds Finale live uit Noord Amerika wordt uitgezonden op 5/6 november in 3 Pathé Bioscopen. Deze unieke mogelijkheid om midden in de nacht samen te komen om Worlds te kijken op het grote doek wil je echt niet missen! \nNaast de viewing party en een openingsquiz\, vindt er ook een leuk toernooi plaats! Bij Pathé Utrecht Leidsche Rijn\, Pathé Schouwburgplein en Pathé Groningen kan je vanaf 22:00 in het gaming centre meedoen aan een 1v1 gaming toernooi. Deelname is gratis voor alle bezoekers in bezit van een ticket voor de Viewing Party. Doe mee en maak kans op leuke HyperX prijzen! \nKlik op “boek nu” om meer te lezen over dit event en om tickets te kopen.
URL:https://www.gogaming.gg/event/league-of-legends-worlds-2022/
LOCATION:Elke Go!Gaming Locatie\, Nederland
ATTACH;FMTTYPE=image/jpeg:https://www.gogaming.gg/wp-content/uploads/2022/08/Screenshot-2021-08-29-224332.jpg
END:VEVENT
END:VCALENDAR