BEGIN:VCALENDAR
VERSION:2.0
PRODID:-//Go!Gaming - ECPv6.2.3.2//NONSGML v1.0//EN
CALSCALE:GREGORIAN
METHOD:PUBLISH
X-ORIGINAL-URL:https://www.gogaming.gg
X-WR-CALDESC:Evenementen voor Go!Gaming
REFRESH-INTERVAL;VALUE=DURATION:PT1H
X-Robots-Tag:noindex
X-PUBLISHED-TTL:PT1H
BEGIN:VTIMEZONE
TZID:Europe/Amsterdam
BEGIN:DAYLIGHT
TZOFFSETFROM:+0100
TZOFFSETTO:+0200
TZNAME:CEST
DTSTART:20220327T010000
END:DAYLIGHT
BEGIN:STANDARD
TZOFFSETFROM:+0200
TZOFFSETTO:+0100
TZNAME:CET
DTSTART:20221030T010000
END:STANDARD
END:VTIMEZONE
BEGIN:VEVENT
DTSTART;TZID=Europe/Amsterdam:20221111T190000
DTEND;TZID=Europe/Amsterdam:20221111T230000
DTSTAMP:20260423T123003
CREATED:20221027T090546Z
LAST-MODIFIED:20221027T090546Z
UID:10000580-1668193200-1668207600@www.gogaming.gg
SUMMARY:Microsoft Flight Simulator 40th Anniversary
DESCRIPTION:Vrijdag 11 november viert Flight Simulator zijn 40ste verjaardag! \nDaarom is het voor elke Pathé en Go!Gaming bezoeker mogelijk om GRATIS Microsoft Flight Simulator te spelen.  \nBen jij de nieuwe Maverick? Kom langs om een rondje te vliegen! Je hoeft je niet in te schrijven voor dit event.
URL:https://www.gogaming.gg/event/microsoft-flight-simulator-40th-anniversary/
LOCATION:Elke Go!Gaming Locatie\, Nederland
END:VEVENT
END:VCALENDAR