BEGIN:VCALENDAR
VERSION:2.0
PRODID:-//Go!Gaming - ECPv6.2.3.2//NONSGML v1.0//EN
CALSCALE:GREGORIAN
METHOD:PUBLISH
X-WR-CALNAME:Go!Gaming
X-ORIGINAL-URL:https://www.gogaming.gg
X-WR-CALDESC:Evenementen voor Go!Gaming
REFRESH-INTERVAL;VALUE=DURATION:PT1H
X-Robots-Tag:noindex
X-PUBLISHED-TTL:PT1H
BEGIN:VTIMEZONE
TZID:Europe/Amsterdam
BEGIN:DAYLIGHT
TZOFFSETFROM:+0100
TZOFFSETTO:+0200
TZNAME:CEST
DTSTART:20220327T010000
END:DAYLIGHT
BEGIN:STANDARD
TZOFFSETFROM:+0200
TZOFFSETTO:+0100
TZNAME:CET
DTSTART:20221030T010000
END:STANDARD
END:VTIMEZONE
BEGIN:VEVENT
DTSTART;TZID=Europe/Amsterdam:20221118T190000
DTEND;TZID=Europe/Amsterdam:20221118T230000
DTSTAMP:20260423T154027
CREATED:20221029T124229Z
LAST-MODIFIED:20221116T122443Z
UID:10000591-1668798000-1668812400@www.gogaming.gg
SUMMARY:Tournament Night: Rainbow Six Siege powered by Ubisoft
DESCRIPTION:Dit toernooi is gecancelled i.v.m. te weinig aanmeldingen.
URL:https://www.gogaming.gg/event/tournament-night-rainbow-six-siege-presented-by-ubisoft/
LOCATION:Elke Go!Gaming Locatie\, Nederland
ATTACH;FMTTYPE=image/jpeg:https://www.gogaming.gg/wp-content/uploads/2022/10/WebsiteHeader.jpg
END:VEVENT
END:VCALENDAR