BEGIN:VCALENDAR
VERSION:2.0
PRODID:-//Go!Gaming - ECPv6.2.3.2//NONSGML v1.0//EN
CALSCALE:GREGORIAN
METHOD:PUBLISH
X-ORIGINAL-URL:https://www.gogaming.gg
X-WR-CALDESC:Evenementen voor Go!Gaming
REFRESH-INTERVAL;VALUE=DURATION:PT1H
X-Robots-Tag:noindex
X-PUBLISHED-TTL:PT1H
BEGIN:VTIMEZONE
TZID:Europe/Amsterdam
BEGIN:DAYLIGHT
TZOFFSETFROM:+0100
TZOFFSETTO:+0200
TZNAME:CEST
DTSTART:20220327T010000
END:DAYLIGHT
BEGIN:STANDARD
TZOFFSETFROM:+0200
TZOFFSETTO:+0100
TZNAME:CET
DTSTART:20221030T010000
END:STANDARD
END:VTIMEZONE
BEGIN:VEVENT
DTSTART;TZID=Europe/Amsterdam:20221119T103000
DTEND;TZID=Europe/Amsterdam:20221119T220000
DTSTAMP:20260422T170952
CREATED:20221031T085852Z
LAST-MODIFIED:20221031T085852Z
UID:10000593-1668853800-1668895200@www.gogaming.gg
SUMMARY:Openingsdag Go!Gaming Nijmegen
DESCRIPTION:Kom gratis langs bij de openingsdag van Go!Gaming Nijmegen en maak kans op toffe prijzen! Schrijf je gratis in op de landingspagina.
URL:https://www.gogaming.gg/event/openingsdag-gogaming-nijmegen/
ATTACH;FMTTYPE=image/jpeg:https://www.gogaming.gg/wp-content/uploads/2022/10/Nijmegen_LQ.jpg
END:VEVENT
END:VCALENDAR