BEGIN:VCALENDAR
VERSION:2.0
PRODID:-//Go!Gaming - ECPv6.2.3.2//NONSGML v1.0//EN
CALSCALE:GREGORIAN
METHOD:PUBLISH
X-WR-CALNAME:Go!Gaming
X-ORIGINAL-URL:https://www.gogaming.gg
X-WR-CALDESC:Evenementen voor Go!Gaming
REFRESH-INTERVAL;VALUE=DURATION:PT1H
X-Robots-Tag:noindex
X-PUBLISHED-TTL:PT1H
BEGIN:VTIMEZONE
TZID:Europe/Amsterdam
BEGIN:DAYLIGHT
TZOFFSETFROM:+0100
TZOFFSETTO:+0200
TZNAME:CEST
DTSTART:20220327T010000
END:DAYLIGHT
BEGIN:STANDARD
TZOFFSETFROM:+0200
TZOFFSETTO:+0100
TZNAME:CET
DTSTART:20221030T010000
END:STANDARD
END:VTIMEZONE
BEGIN:VEVENT
DTSTART;TZID=Europe/Amsterdam:20221125T190000
DTEND;TZID=Europe/Amsterdam:20221125T230000
DTSTAMP:20260423T110400
CREATED:20221029T124328Z
LAST-MODIFIED:20221109T112423Z
UID:10000592-1669402800-1669417200@www.gogaming.gg
SUMMARY:Tournament Night: Valorant 5v5 (online)
DESCRIPTION:Op 25 november organiseert Go!Gaming een online Valorant toernooi! \nDoe mee aan het 5 vs 5 online Valorant toernooi en maak kans op geweldige HyperX prijzen. Het gehele toernooi vindt online plaats via Discord en FACEIT. \nDeelname is gratis\, dus verzamel je vrienden en doe mee! Aanmelden kan via de FACEIT toernooipagina. \nPrijzen: \nEerste plek: 5x HyperX Pulsefire Haste Gaming Mouse\nTweede plek: 5x Twee uur gametime bij Go!Gaming \nJoin alvast onze Discord server zodat je niks mist.
URL:https://www.gogaming.gg/event/tournament-night-valorant-5v5-online/
LOCATION:Discord\, Online\, Discord\, Nederland
ATTACH;FMTTYPE=image/jpeg:https://www.gogaming.gg/wp-content/uploads/2021/12/Header_Valorant.jpg
END:VEVENT
END:VCALENDAR