BEGIN:VCALENDAR
VERSION:2.0
PRODID:-//Go!Gaming - ECPv6.2.3.2//NONSGML v1.0//EN
CALSCALE:GREGORIAN
METHOD:PUBLISH
X-WR-CALNAME:Go!Gaming
X-ORIGINAL-URL:https://www.gogaming.gg
X-WR-CALDESC:Evenementen voor Go!Gaming
REFRESH-INTERVAL;VALUE=DURATION:PT1H
X-Robots-Tag:noindex
X-PUBLISHED-TTL:PT1H
BEGIN:VTIMEZONE
TZID:Europe/Amsterdam
BEGIN:DAYLIGHT
TZOFFSETFROM:+0100
TZOFFSETTO:+0200
TZNAME:CEST
DTSTART:20220327T010000
END:DAYLIGHT
BEGIN:STANDARD
TZOFFSETFROM:+0200
TZOFFSETTO:+0100
TZNAME:CET
DTSTART:20221030T010000
END:STANDARD
END:VTIMEZONE
BEGIN:VEVENT
DTSTART;VALUE=DATE:20221129
DTEND;VALUE=DATE:20221203
DTSTAMP:20260422T101621
CREATED:20221031T091323Z
LAST-MODIFIED:20221128T073316Z
UID:10000594-1669680000-1670025599@www.gogaming.gg
SUMMARY:Playseat® Racing Week
DESCRIPTION:Vanaf 29 november t/m 2 december staat heel Go!Gaming in het thema van racen!  \nNeem plaats in in een Racing Simulator van Playseat® om jouw racing skills te testen\, en maak daarbij kans om te gekke prijzen te winnen. \nHet enige wat je hiervoor nodig hebt is racetijd op jouw Go!Gaming account\, dan kan je direct meedoen met de challenge! Heb jij nog geen gametime op jouw account? Boeken kan via deze link. \nDe challenge zal een time trial zijn in de game Dirt 5.
URL:https://www.gogaming.gg/event/playseat-racing-week/
LOCATION:Elke Go!Gaming Locatie\, Nederland
ATTACH;FMTTYPE=image/jpeg:https://www.gogaming.gg/wp-content/uploads/2022/10/RaceWeekHeader.jpg
END:VEVENT
BEGIN:VEVENT
DTSTART;TZID=Europe/Amsterdam:20221129T190000
DTEND;TZID=Europe/Amsterdam:20221129T210000
DTSTAMP:20260422T101621
CREATED:20221029T123058Z
LAST-MODIFIED:20221202T170640Z
UID:10000584-1669748400-1669755600@www.gogaming.gg
SUMMARY:Let's Play Xbox
DESCRIPTION:Elke dinsdagavond van  is onze Mainstage in het thema van de Xbox Game Pass. Kom langs en speel leuke games die op de Xbox Game Pass staan zoals Sea of Thieves\, Forza Horizon 5\, Microsoft Flight Simulator & Halo Infinite!  \nDeelname is gratis voor alle Pathé en Go!Gaming bezoekers\, dus kom gezellig langs\, doe mee en maak kans op leuke goodies.
URL:https://www.gogaming.gg/event/lets-play-xbox/2022-11-29/
LOCATION:Elke Go!Gaming Locatie\, Nederland
ATTACH;FMTTYPE=image/jpeg:https://www.gogaming.gg/wp-content/uploads/2022/10/XboXWebsiteHeader.jpg
END:VEVENT
END:VCALENDAR