BEGIN:VCALENDAR
VERSION:2.0
PRODID:-//Go!Gaming - ECPv6.2.3.2//NONSGML v1.0//EN
CALSCALE:GREGORIAN
METHOD:PUBLISH
X-ORIGINAL-URL:https://www.gogaming.gg
X-WR-CALDESC:Evenementen voor Go!Gaming
REFRESH-INTERVAL;VALUE=DURATION:PT1H
X-Robots-Tag:noindex
X-PUBLISHED-TTL:PT1H
BEGIN:VTIMEZONE
TZID:Europe/Amsterdam
BEGIN:DAYLIGHT
TZOFFSETFROM:+0100
TZOFFSETTO:+0200
TZNAME:CEST
DTSTART:20220327T010000
END:DAYLIGHT
BEGIN:STANDARD
TZOFFSETFROM:+0200
TZOFFSETTO:+0100
TZNAME:CET
DTSTART:20221030T010000
END:STANDARD
END:VTIMEZONE
BEGIN:VEVENT
DTSTART;TZID=Europe/Amsterdam:20221204T190000
DTEND;TZID=Europe/Amsterdam:20221204T230000
DTSTAMP:20260422T225310
CREATED:20221031T091426Z
LAST-MODIFIED:20221202T170612Z
UID:10000595-1670180400-1670194800@www.gogaming.gg
SUMMARY:Tournament Night Valorant 5v5 (online)
DESCRIPTION:Op 4 december organiseert Go!Gaming een online Valorant toernooi! \nDoe mee aan het 5 vs 5 online Valorant toernooi en maak kans op geweldige HyperX prijzen. Het gehele toernooi vindt online plaats via Discord en FACEIT. \nDeelname is gratis\, dus verzamel je vrienden en doe mee! Aanmelden kan via de FACEIT toernooipagina. \nPrijzen: \nEerste plek: 5x HyperX SuperHaste Gaming Mouse cabled\nTweede plek: 5x 2 uur gametime bij Go!Gaming \nAanmelden kan via de FACEIT toernooipagina.
URL:https://www.gogaming.gg/event/tournament-night-valorant-5v5-online-2/
LOCATION:Discord\, Online\, Discord\, Nederland
CATEGORIES:Toernooi
ATTACH;FMTTYPE=image/jpeg:https://www.gogaming.gg/wp-content/uploads/2022/07/GG_Banner_Valorant.jpg
END:VEVENT
END:VCALENDAR