BEGIN:VCALENDAR
VERSION:2.0
PRODID:-//Go!Gaming - ECPv6.2.3.2//NONSGML v1.0//EN
CALSCALE:GREGORIAN
METHOD:PUBLISH
X-ORIGINAL-URL:https://www.gogaming.gg
X-WR-CALDESC:Evenementen voor Go!Gaming
REFRESH-INTERVAL;VALUE=DURATION:PT1H
X-Robots-Tag:noindex
X-PUBLISHED-TTL:PT1H
BEGIN:VTIMEZONE
TZID:Europe/Amsterdam
BEGIN:DAYLIGHT
TZOFFSETFROM:+0100
TZOFFSETTO:+0200
TZNAME:CEST
DTSTART:20220327T010000
END:DAYLIGHT
BEGIN:STANDARD
TZOFFSETFROM:+0200
TZOFFSETTO:+0100
TZNAME:CET
DTSTART:20221030T010000
END:STANDARD
END:VTIMEZONE
BEGIN:VEVENT
DTSTART;TZID=Europe/Amsterdam:20221209T190000
DTEND;TZID=Europe/Amsterdam:20221209T230000
DTSTAMP:20260423T044325
CREATED:20221031T091642Z
LAST-MODIFIED:20221209T103351Z
UID:10000597-1670612400-1670626800@www.gogaming.gg
SUMMARY:Tournament Night: Rocket League 3v3
DESCRIPTION:Tournament omschrijving\nHet is tijd voor een nieuw Rocket League Tournament bij Go!Gaming! Speel op 9 december mee in het 3 vs 3 Rocket League Tournament bij Go!Gaming en maak kans op toffe prijzen \nDe check in start om 19:00 en het team heeft een tournament ticket nodig om mee te doen.  \nJoin alvast onze Discord server om je voor te bereiden op het toernooi. \nEr zal worden gespeeld op de Gaming PC’s van Go!Gaming\, het aansluiten van een controller is toegestaan. Heb je nog geen teamgenoot? Misschien kan je iemand vinden in onze Discord community! \nPrijzen\n< 8 teams\ncancelled \n8-16 teams\nEerste plek: 3x HyperX Headset Stinger + 2 uur gametime\nTweede plek: 3x 1 uur gametime \n>16 teams\nEerste plek: 3x HyperX Headset Stinger + 3 uur gametime\nTweede plek: 3x HyperX Playstation Duo Charger + 2 uur gametime\nDerde/vierde plek: 6x 1 uur gametime \nMeer informatie over het toernooi en de live brackets\n\nToornament pagina (n.t.b.)
URL:https://www.gogaming.gg/event/tournament-night-rocket-league-3v3/
LOCATION:Elke Go!Gaming Locatie\, Nederland
CATEGORIES:Toernooi
ATTACH;FMTTYPE=image/jpeg:https://www.gogaming.gg/wp-content/uploads/2022/07/GG_Banner_RocketLeague.jpg
END:VEVENT
END:VCALENDAR