BEGIN:VCALENDAR
VERSION:2.0
PRODID:-//Go!Gaming - ECPv6.2.3.2//NONSGML v1.0//EN
CALSCALE:GREGORIAN
METHOD:PUBLISH
X-WR-CALNAME:Go!Gaming
X-ORIGINAL-URL:https://www.gogaming.gg
X-WR-CALDESC:Evenementen voor Go!Gaming
REFRESH-INTERVAL;VALUE=DURATION:PT1H
X-Robots-Tag:noindex
X-PUBLISHED-TTL:PT1H
BEGIN:VTIMEZONE
TZID:Europe/Amsterdam
BEGIN:DAYLIGHT
TZOFFSETFROM:+0100
TZOFFSETTO:+0200
TZNAME:CEST
DTSTART:20220327T010000
END:DAYLIGHT
BEGIN:STANDARD
TZOFFSETFROM:+0200
TZOFFSETTO:+0100
TZNAME:CET
DTSTART:20221030T010000
END:STANDARD
END:VTIMEZONE
BEGIN:VEVENT
DTSTART;TZID=Europe/Amsterdam:20221213T160000
DTEND;TZID=Europe/Amsterdam:20221217T220000
DTSTAMP:20260422T101602
CREATED:20221211T123935Z
LAST-MODIFIED:20221211T124155Z
UID:10000605-1670947200-1671314400@www.gogaming.gg
SUMMARY:Sony Inzone Winter Battle
DESCRIPTION:Tournament omschrijving\nZijn jij en 2 van jouw game vrienden het beste Call of Duty Modern Warfare II team?! Laat dan deze winter jullie skills zien in de Sony INZONE Winter Battle 2022! \nTussen 12-12-2022 en 17-12-2022 organiseren eMense en Go!Gaming voor Sony INZONE de Sony INZONE Winter Battle 2022 met het spel Call of Duty Modern Warfare II! Tijdens deze Winter Battle gaan we op zoek naar het beste vriendenteam uit Nederland! \nGedurende vier kwalificatie dagen kunnen teams zichzelf plaatsen voor de finaledag bij één van de volgende Go!Gaming locaties: Purmerend\, Rotterdam\, Utrecht\, Groningen en Nijmegen. \nPrijzen\nDe ultieme Sony INZONE gaming setup\, bestaande uit een Sony INZONE M9 Monitor + Sony INZONE H9 Headset + Sony PlayStation 5 Dualsense controller – Grey Camo editie en € 120\,- PlayStation® tegoed voor elke speler in het winnende team! \nDe totale waarde van deze prijzenpot bedraagt ruim € 1595\,- per speler! \nMeer informatie over het toernooi en inschrijven\nwww.gogaming.gg/en/sonyinzone
URL:https://www.gogaming.gg/event/sony-inzone-winter-battle/
ATTACH;FMTTYPE=image/png:https://www.gogaming.gg/wp-content/uploads/2022/12/SonyInzoneWinterBattle_WebsiteHeader_1440x540_TOP.png
ORGANIZER;CN="Go!Gaming":MAILTO:klantenservice@gogaming.gg
END:VEVENT
BEGIN:VEVENT
DTSTART;TZID=Europe/Amsterdam:20221217T160000
DTEND;TZID=Europe/Amsterdam:20221217T210000
DTSTAMP:20260422T101602
CREATED:20221031T091752Z
LAST-MODIFIED:20221212T124356Z
UID:10000598-1671292800-1671310800@www.gogaming.gg
SUMMARY:City League: League of Legends 5v5
DESCRIPTION:Tournament omschrijving\nOp 17 december organiseert Go!Gaming de City League: League of Legends 5v5.. In de City League kan je het met jouw team opnemen tegen teams in andere steden. De check-in start om 16:00 en de eerste game zal beginnen om 17:00. \nDoe mee aan het 5 vs 5 League Of Legends toernooi en maak kans op geweldige HyperX prijzen. Het gehele toernooi vindt plaats via Discord en de verschillende Go!Gaming locaties. \nDeelname kost 12\,50 per team\, dus verzamel je vrienden en doe mee!\nJoin alvast onze Discord zodat je niks mist! \nPrijzen\n<8 teams: city league cancelled \nPrijzen 8-16 teams: \n1st = 5x 2 uur game time + 5x HyperX Muismat XL\n2nd = 5x 2 uur game time \nPrijzen 16+ teams =\n1st = 5x HyperX SoloCast Mic + 3 uur game time\n2nd = 5x HyperX Muismat XL + 2 uur game time\n3/4th = 5x 1 uur game time \nMeer informatie over het toernooi\, rulebook en de live brackets\n\nToornament pagina
URL:https://www.gogaming.gg/event/city-league-league-of-legends-5v5/
LOCATION:Elke Go!Gaming Locatie\, Nederland
CATEGORIES:Competitie
ATTACH;FMTTYPE=image/jpeg:https://www.gogaming.gg/wp-content/uploads/2022/07/GG_Banner_LeagueOfLegends.jpg
END:VEVENT
END:VCALENDAR