BEGIN:VCALENDAR
VERSION:2.0
PRODID:-//Go!Gaming - ECPv6.2.3.2//NONSGML v1.0//EN
CALSCALE:GREGORIAN
METHOD:PUBLISH
X-ORIGINAL-URL:https://www.gogaming.gg
X-WR-CALDESC:Evenementen voor Go!Gaming
REFRESH-INTERVAL;VALUE=DURATION:PT1H
X-Robots-Tag:noindex
X-PUBLISHED-TTL:PT1H
BEGIN:VTIMEZONE
TZID:Europe/Amsterdam
BEGIN:DAYLIGHT
TZOFFSETFROM:+0100
TZOFFSETTO:+0200
TZNAME:CEST
DTSTART:20220327T010000
END:DAYLIGHT
BEGIN:STANDARD
TZOFFSETFROM:+0200
TZOFFSETTO:+0100
TZNAME:CET
DTSTART:20221030T010000
END:STANDARD
END:VTIMEZONE
BEGIN:VEVENT
DTSTART;TZID=Europe/Amsterdam:20221223T190000
DTEND;TZID=Europe/Amsterdam:20221223T220000
DTSTAMP:20260422T134756
CREATED:20221031T092104Z
LAST-MODIFIED:20221213T103008Z
UID:10000600-1671822000-1671832800@www.gogaming.gg
SUMMARY:Tournament Night: Minecraft Building Challenge
DESCRIPTION:Het is tijd voor de allereerste Minecraft toernooi bij Go!Gaming. Op 23 december kan je gratis bij elke Go!Gaming locatie iets moois bouwen in Minecraft. \nTop Minecraft bouwers vormen een jury en hebben een building challenge opgezet\, kan jij de challenge als beste uitvoeren en de jury overtuigen?  \nKom jij langs om je bouw skills te laten zien? \nSchrijf je GRATIS in en maak kans op hele toffe prijzen!
URL:https://www.gogaming.gg/event/tournament-night-minecraft-building-challenge/
LOCATION:Elke Go!Gaming Locatie\, Nederland
CATEGORIES:Toernooi
ATTACH;FMTTYPE=image/png:https://www.gogaming.gg/wp-content/uploads/2021/12/Header_MinecraftTraining-1.png
END:VEVENT
END:VCALENDAR