BEGIN:VCALENDAR
VERSION:2.0
PRODID:-//Go!Gaming - ECPv6.2.3.2//NONSGML v1.0//EN
CALSCALE:GREGORIAN
METHOD:PUBLISH
X-WR-CALNAME:Go!Gaming
X-ORIGINAL-URL:https://www.gogaming.gg
X-WR-CALDESC:Evenementen voor Go!Gaming
REFRESH-INTERVAL;VALUE=DURATION:PT1H
X-Robots-Tag:noindex
X-PUBLISHED-TTL:PT1H
BEGIN:VTIMEZONE
TZID:Europe/Amsterdam
BEGIN:DAYLIGHT
TZOFFSETFROM:+0100
TZOFFSETTO:+0200
TZNAME:CEST
DTSTART:20220327T010000
END:DAYLIGHT
BEGIN:STANDARD
TZOFFSETFROM:+0200
TZOFFSETTO:+0100
TZNAME:CET
DTSTART:20221030T010000
END:STANDARD
BEGIN:DAYLIGHT
TZOFFSETFROM:+0100
TZOFFSETTO:+0200
TZNAME:CEST
DTSTART:20230326T010000
END:DAYLIGHT
BEGIN:STANDARD
TZOFFSETFROM:+0200
TZOFFSETTO:+0100
TZNAME:CET
DTSTART:20231029T010000
END:STANDARD
END:VTIMEZONE
BEGIN:VEVENT
DTSTART;TZID=Europe/Amsterdam:20221224T120000
DTEND;TZID=Europe/Amsterdam:20230108T180000
DTSTAMP:20260422T101559
CREATED:20221219T091556Z
LAST-MODIFIED:20221226T084839Z
UID:10000613-1671883200-1673200800@www.gogaming.gg
SUMMARY:Hackshield
DESCRIPTION:Ben jij een echte speurneus en lijkt het je leuk om boeven te vangen? Speel dan gratis het spel Hackshield cyberagents in de Go!Gaming hal van Pathé schouwburgplein\, Rotterdam. \nHackShield is voor kinderen tussen de 8 en 12 jaar en leren je spelenderwijs jezelf te wapenen tegen cybercriminaliteit. Via een spannend spel leer je over de gevaren van internet en hoe je deze gevaren tegen kunt gaan. Hiermee maak je niet alleen jezelf\, maar mogelijk ook je directe omgeving cyberveilig. Gedurende de kerstvakantie ben je welkom om gratis te komen gamen tussen 12:00 tot 18:00 op de aangewezen computers. \nHackshield is gratis te spelen voor bezoekers van Go!Gaming en/of Pathé.
URL:https://www.gogaming.gg/event/hackshield/
LOCATION:Go!Gaming Schouwburgplein\, Schouwburgplein 101\, Rotterdam\, Zuid-Holland\, 3012CL\, Nederland
CATEGORIES:Overig
ATTACH;FMTTYPE=image/jpeg:https://www.gogaming.gg/wp-content/uploads/2022/12/jdg_15-08-22_HackShield_3D0A4490-scaled.jpg
END:VEVENT
BEGIN:VEVENT
DTSTART;TZID=Europe/Amsterdam:20230107T110000
DTEND;TZID=Europe/Amsterdam:20230107T170000
DTSTAMP:20260422T101559
CREATED:20221214T100951Z
LAST-MODIFIED:20221214T101056Z
UID:10000607-1673089200-1673110800@www.gogaming.gg
SUMMARY:Coca-Cola Talent Days H20 Esports Campus
DESCRIPTION:Coca Cola Talent days is een evenement waarin gamers bij elkaar komen om in contact komen met de wereld van Esports. Hierin worden allerlei vaardigheden zoals reactietijd en hand-oog coördinatie\, getest en getraind die belangrijk zijn voor de top sport.  \nVerder krijgen de gamers een eerste blik binnen de esports wereld waarin ze informatie krijgen over wat er allemaal bij een esports carrière komt kijken\, hoe de levensstijl van een esporter eruit ziet en wat ze hiervoor moeten doen om te groeien naar een professioneel esporter.  \nTenslotte wordt van deze gamers een profiel geschetst waarin bekeken wordt in hoeverre deze in lijn is van een professioneel esporter. De Coca-Cola Talent days heeft als doel om gamers te motiveren een eerste doorstap te maken naar een professionele esports carrière en gamers bij elkaar te brengen om een sociale en plezierige ervaring te geven. \nDe Coca Cola Talent Days zijn voor iedere gamer toegankelijk\, ongeacht welk niveau of ervaring met een game. \nSchrijf je gratis in op: https://www.gogaming.gg/cocacola/
URL:https://www.gogaming.gg/event/coca-cola-talent-days-h20-esports-campus/
LOCATION:Go!Gaming Purmerend\, Spinnekop 2-3\, Purmerend\, 1444GN\, Nederland
ATTACH;FMTTYPE=image/jpeg:https://www.gogaming.gg/wp-content/uploads/2022/12/CCTD_WebsiteHeader-01-4-scaled.jpg
ORGANIZER;CN="Go!Gaming":MAILTO:klantenservice@gogaming.gg
END:VEVENT
END:VCALENDAR