BEGIN:VCALENDAR
VERSION:2.0
PRODID:-//Go!Gaming - ECPv6.2.3.2//NONSGML v1.0//EN
CALSCALE:GREGORIAN
METHOD:PUBLISH
X-WR-CALNAME:Go!Gaming
X-ORIGINAL-URL:https://www.gogaming.gg
X-WR-CALDESC:Evenementen voor Go!Gaming
REFRESH-INTERVAL;VALUE=DURATION:PT1H
X-Robots-Tag:noindex
X-PUBLISHED-TTL:PT1H
BEGIN:VTIMEZONE
TZID:Europe/Amsterdam
BEGIN:DAYLIGHT
TZOFFSETFROM:+0100
TZOFFSETTO:+0200
TZNAME:CEST
DTSTART:20230326T010000
END:DAYLIGHT
BEGIN:STANDARD
TZOFFSETFROM:+0200
TZOFFSETTO:+0100
TZNAME:CET
DTSTART:20231029T010000
END:STANDARD
END:VTIMEZONE
BEGIN:VEVENT
DTSTART;TZID=Europe/Amsterdam:20230113T190000
DTEND;TZID=Europe/Amsterdam:20230113T230000
DTSTAMP:20260422T101628
CREATED:20221231T084521Z
LAST-MODIFIED:20221231T084521Z
UID:10000351-1673636400-1673650800@www.gogaming.gg
SUMMARY:Tournament Night: League of Legends 5v5 (online) Diamond+
DESCRIPTION:Op 13 januari organiseert Go!Gaming een online League of Legends toernooi via de Go!Gaming discord en FACEIT. \nDoe mee aan het 5 vs 5 online LoL toernooi en maak kans op geweldige prijzen. Op de FACEIT pagina staat verdere informatie over het toernooi.  \nHet toernooi zal van 19:00 t/m 23:00 zijn. Let op: Check-in start al 18:00 \nDeelname is gratis\, dus verzamel je vrienden en doe mee! \nJoin alvast onze Discord zodat je niks mist! \nAan dit toernooi mogen alleen maar spelers meedoen die tussen diamond en challenger zitten. \nPrijzen:\n5x HyperX Pulsefire gaming muis
URL:https://www.gogaming.gg/event/tournament-night-league-of-legends-5v5-online-diamond/
LOCATION:Discord\, Online\, Discord\, Nederland
CATEGORIES:Toernooi
ATTACH;FMTTYPE=image/jpeg:https://www.gogaming.gg/wp-content/uploads/2022/07/GG_Banner_LeagueOfLegends.jpg
END:VEVENT
BEGIN:VEVENT
DTSTART;TZID=Europe/Amsterdam:20230113T190000
DTEND;TZID=Europe/Amsterdam:20230113T230000
DTSTAMP:20260422T101628
CREATED:20221231T085014Z
LAST-MODIFIED:20230113T151130Z
UID:10000352-1673636400-1673650800@www.gogaming.gg
SUMMARY:Tournament Night: League of Legends (online) Platinum-
DESCRIPTION:Op 13 januari organiseert Go!Gaming een online League of Legends toernooi via de Go!Gaming discord en FACEIT. \nDoe mee aan het 5 vs 5 online LoL toernooi en maak kans op geweldige prijzen. Op de FACEIT pagina staat verdere informatie over het toernooi.  \nHet toernooi zal van 19:00 t/m 23:00 zijn. Let op: Check-in start al 18:00 \nDeelname is gratis\, dus verzamel je vrienden en doe mee! \nJoin alvast onze Discord zodat je niks mist! \nAan dit toernooi mogen alleen maar spelers meedoen die unranked zijn of een rank hebben tussen Bronze en Platinum. Elk team krijgt 1 wildcard\, dat betekent dat er maximaal 1 speler mag zijn per team die boven platinum zit. \nPrijzen:\n5x HyperX Fury S muismat
URL:https://www.gogaming.gg/event/tournament-night-league-of-legends-online-platinum/
LOCATION:Discord\, Online\, Discord\, Nederland
CATEGORIES:Toernooi
ATTACH;FMTTYPE=image/jpeg:https://www.gogaming.gg/wp-content/uploads/2022/07/GG_Banner_LeagueOfLegends.jpg
END:VEVENT
END:VCALENDAR