BEGIN:VCALENDAR
VERSION:2.0
PRODID:-//Go!Gaming - ECPv6.2.3.2//NONSGML v1.0//EN
CALSCALE:GREGORIAN
METHOD:PUBLISH
X-WR-CALNAME:Go!Gaming
X-ORIGINAL-URL:https://www.gogaming.gg
X-WR-CALDESC:Evenementen voor Go!Gaming
REFRESH-INTERVAL;VALUE=DURATION:PT1H
X-Robots-Tag:noindex
X-PUBLISHED-TTL:PT1H
BEGIN:VTIMEZONE
TZID:Europe/Amsterdam
BEGIN:DAYLIGHT
TZOFFSETFROM:+0100
TZOFFSETTO:+0200
TZNAME:CEST
DTSTART:20230326T010000
END:DAYLIGHT
BEGIN:STANDARD
TZOFFSETFROM:+0200
TZOFFSETTO:+0100
TZNAME:CET
DTSTART:20231029T010000
END:STANDARD
END:VTIMEZONE
BEGIN:VEVENT
DTSTART;TZID=Europe/Amsterdam:20230203T180000
DTEND;TZID=Europe/Amsterdam:20230203T210000
DTSTAMP:20260421T230041
CREATED:20230112T133408Z
LAST-MODIFIED:20230202T151009Z
UID:10000626-1675447200-1675458000@www.gogaming.gg
SUMMARY:Tournament Night: Fall Guys
DESCRIPTION:Het is tijd voor een Fall Guys toernooi bij Go!Gaming. Schrijf je individueel in en doe mee met de spannende Fall Guys: Ultimate Knockout toernooi en maak kans op toffe prijzen! Je hebt een tournament ticket nodig om mee te doen. De check in start om 18:00.  \nMet het Tournament Ticket krijg je speeltijd voor het tournament. \nHet is toegestaan om eigen controller mee te nemen! \nTijdens het toernooi zul je met iedereen over alle centers in een custom lobby zitten. Vervolgens worden er meerdere games gespeeld tot er een winnaar is. \nPrijzen:\n \nPhilips Hue Iris Lamp \n 
URL:https://www.gogaming.gg/event/tournament-night-fall-guys/
LOCATION:Elke Go!Gaming Locatie\, Nederland
CATEGORIES:Toernooi
ATTACH;FMTTYPE=image/jpeg:https://www.gogaming.gg/wp-content/uploads/2021/12/Header_FallGuys.jpg
ORGANIZER;CN="Go!Gaming":MAILTO:klantenservice@gogaming.gg
END:VEVENT
END:VCALENDAR