BEGIN:VCALENDAR
VERSION:2.0
PRODID:-//Go!Gaming - ECPv6.2.3.2//NONSGML v1.0//EN
CALSCALE:GREGORIAN
METHOD:PUBLISH
X-ORIGINAL-URL:https://www.gogaming.gg
X-WR-CALDESC:Evenementen voor Go!Gaming
REFRESH-INTERVAL;VALUE=DURATION:PT1H
X-Robots-Tag:noindex
X-PUBLISHED-TTL:PT1H
BEGIN:VTIMEZONE
TZID:Europe/Amsterdam
BEGIN:DAYLIGHT
TZOFFSETFROM:+0100
TZOFFSETTO:+0200
TZNAME:CEST
DTSTART:20230326T010000
END:DAYLIGHT
BEGIN:STANDARD
TZOFFSETFROM:+0200
TZOFFSETTO:+0100
TZNAME:CET
DTSTART:20231029T010000
END:STANDARD
END:VTIMEZONE
BEGIN:VEVENT
DTSTART;TZID=Europe/Amsterdam:20230208T150000
DTEND;TZID=Europe/Amsterdam:20230208T170000
DTSTAMP:20260422T002936
CREATED:20221230T155436Z
LAST-MODIFIED:20221230T155436Z
UID:10000338-1675868400-1675875600@www.gogaming.gg
SUMMARY:Let's Play Nintendo
DESCRIPTION:Tijdens de Let’s Play sessions kan jij gratis leuke games spelen die onze partners beschikbaar stellen. Woensdagen staan in het thema van Nintendo. Kom langs en speel leuke Nintendo games zoals Mario Kart en Splatoon 3. \nDeelname is gratis voor alle Pathé en Go!Gaming bezoekers\, dus kom gezellig langs\, doe mee en maak kans op leuke goodies.
URL:https://www.gogaming.gg/event/lets-play-nintendo-3/2023-02-08/
LOCATION:Elke Go!Gaming Locatie\, Nederland
ATTACH;FMTTYPE=image/png:https://www.gogaming.gg/wp-content/uploads/2022/06/WebsiteHeader_Nintendo.png
END:VEVENT
BEGIN:VEVENT
DTSTART;TZID=Europe/Amsterdam:20230208T190000
DTEND;TZID=Europe/Amsterdam:20230208T230000
DTSTAMP:20260422T002936
CREATED:20220610T121241Z
LAST-MODIFIED:20230614T113639Z
UID:10000431-1675882800-1675897200@www.gogaming.gg
SUMMARY:Battle Royale Night
DESCRIPTION:Op woensdag van 19:00 tot 23:00 kun je bij elke GoGaming locatie terecht voor de wekelijkse Battle Royale Night. 3 uur lang kun je strijden voor de victory royales op onze gloednieuwe PC’s en consoles! \nStrijd jij mee tijdens de wekelijkse Battle Royale Night? Met een ticket ontvang je 3 uur gametime en een drankje naar keuze. Voor elke win krijg je direct Go!Coins op je account! \nDeelnemende games: \n\nFortnite\nFall Guys\nApex Legends\nPUBG\nCall of Duty: Warzone\n\nJe kan inloggen op je eigen account of gebruik maken van één van onze accounts om deze games te spelen.
URL:https://www.gogaming.gg/event/battle-royale-night-2022-07-06/2023-02-08/
LOCATION:Elke Go!Gaming Locatie\, Nederland
CATEGORIES:Thema Avond
ATTACH;FMTTYPE=image/png:https://www.gogaming.gg/wp-content/uploads/2021/12/Header_BattleRoyale.png
END:VEVENT
END:VCALENDAR