BEGIN:VCALENDAR
VERSION:2.0
PRODID:-//Go!Gaming - ECPv6.2.3.2//NONSGML v1.0//EN
CALSCALE:GREGORIAN
METHOD:PUBLISH
X-WR-CALNAME:Go!Gaming
X-ORIGINAL-URL:https://www.gogaming.gg
X-WR-CALDESC:Evenementen voor Go!Gaming
REFRESH-INTERVAL;VALUE=DURATION:PT1H
X-Robots-Tag:noindex
X-PUBLISHED-TTL:PT1H
BEGIN:VTIMEZONE
TZID:Europe/Amsterdam
BEGIN:DAYLIGHT
TZOFFSETFROM:+0100
TZOFFSETTO:+0200
TZNAME:CEST
DTSTART:20230326T010000
END:DAYLIGHT
BEGIN:STANDARD
TZOFFSETFROM:+0200
TZOFFSETTO:+0100
TZNAME:CET
DTSTART:20231029T010000
END:STANDARD
END:VTIMEZONE
BEGIN:VEVENT
DTSTART;TZID=Europe/Amsterdam:20230211T120000
DTEND;TZID=Europe/Amsterdam:20230211T200000
DTSTAMP:20260421T154432
CREATED:20230123T103615Z
LAST-MODIFIED:20230125T105650Z
UID:10000622-1676116800-1676145600@www.gogaming.gg
SUMMARY:Go!Gaming Schouwburgplein 1 Year Anniversary
DESCRIPTION:Gamers\, zet de datum 11 februari in jullie agenda! Het 1-jarig jubileum van Go!Gaming Rotterdam Schouwburgplein is hier en we vieren het in stijl. \nGo!Gaming is 1 jaar oud geworden en daarom kan jij voor maar 1 euro\, 2 uur lang gamen! Dat klopt\, je hebt 2 uur de tijd om challenges aan te gaan\, te strijden tegen andere spelers en prijzen te winnen. Mis deze unieke kans niet om de beste gaming experience in Rotterdam te ervaren. Het tijdslot zal beginnen met een welkomswoordje vanuit Go!Gaming. \nBezoek het jubileumevent van Go!Gaming Schouwburgplein op 11 februari tussen 12:00 en 20:00 en laat het gamen beginnen.  \nEen ticket voor een tijdslot geeft recht tot: \n\nToegang tot open dag Go!Gaming in je tijdslot\nVrije game vloer\, vrij te spelen\nDeelname aan challenges + activiteiten\, indien beschikbaar\n\nKies je tijdslot bij ticketverkoop. \n12:00 – 14:00 \n14:00 – 16:00 \n16:00 – 18:00  \n18:00 – 20:00 \nEr zijn 40 plekken beschikbaar per tijdslot\, wees er snel bij!
URL:https://www.gogaming.gg/event/jubileum/
LOCATION:Go!Gaming Schouwburgplein\, Schouwburgplein 101\, Rotterdam\, Zuid-Holland\, 3012CL\, Nederland
ATTACH;FMTTYPE=image/jpeg:https://www.gogaming.gg/wp-content/uploads/2023/01/1YA_Header.jpg
ORGANIZER;CN="Go!Gaming":MAILTO:klantenservice@gogaming.gg
END:VEVENT
END:VCALENDAR