BEGIN:VCALENDAR
VERSION:2.0
PRODID:-//Go!Gaming - ECPv6.2.3.2//NONSGML v1.0//EN
CALSCALE:GREGORIAN
METHOD:PUBLISH
X-ORIGINAL-URL:https://www.gogaming.gg
X-WR-CALDESC:Evenementen voor Go!Gaming
REFRESH-INTERVAL;VALUE=DURATION:PT1H
X-Robots-Tag:noindex
X-PUBLISHED-TTL:PT1H
BEGIN:VTIMEZONE
TZID:Europe/Amsterdam
BEGIN:DAYLIGHT
TZOFFSETFROM:+0100
TZOFFSETTO:+0200
TZNAME:CEST
DTSTART:20230326T010000
END:DAYLIGHT
BEGIN:STANDARD
TZOFFSETFROM:+0200
TZOFFSETTO:+0100
TZNAME:CET
DTSTART:20231029T010000
END:STANDARD
END:VTIMEZONE
BEGIN:VEVENT
DTSTART;TZID=Europe/Amsterdam:20230217T180000
DTEND;TZID=Europe/Amsterdam:20230217T220000
DTSTAMP:20260422T043920
CREATED:20230118T123504Z
LAST-MODIFIED:20230118T123504Z
UID:10000623-1676656800-1676671200@www.gogaming.gg
SUMMARY:CS:GO 2v2 Wingman
DESCRIPTION:CS:GO fans opgelet! \nOp 17 februari organiseert Go!Gaming voor het eerst een Counter Strike: Global Offensive toernooi. In dit toernooi kan je het met jouw duopartner opnemen tegen teams in andere steden.\n \nDoe mee aan het 2 vs 2 CS:GO toernooi en maak kans op leuke prijzen. Het gehele toernooi vindt plaats via Discord en de verschillende Go!Gaming centers.\n\nDeelname kost 15 euro per team\, dus haal je partner erbij en doe mee!\n \nNog op zoek naar een teamgenoot? Join alvast onze Discord server en ontmoet andere gamers. \nPrijzen\nMinder dan 6 teams = cancelled \n6-16 teams =\n1ste = 2x Signify Iris Lamp\n2nd = 2x 1 uur game time \n16 + teams =\n1ste = 2x Signify Iris Lamp + 3 uur game time\n2nd = 2x 3 uur game time\n3rd = 2x 2 uur game time \nRulebook\nLees hier de rulebook.
URL:https://www.gogaming.gg/event/csgo-2v2-wingman/
LOCATION:Elke Go!Gaming Locatie\, Nederland
CATEGORIES:Toernooi
ATTACH;FMTTYPE=image/jpeg:https://www.gogaming.gg/wp-content/uploads/2021/12/Header_CSGO.jpg
ORGANIZER;CN="Go!Gaming":MAILTO:klantenservice@gogaming.gg
END:VEVENT
BEGIN:VEVENT
DTSTART;TZID=Europe/Amsterdam:20230217T190000
DTEND;TZID=Europe/Amsterdam:20230217T230000
DTSTAMP:20260422T043920
CREATED:20230214T162637Z
LAST-MODIFIED:20230324T075323Z
UID:10000620-1676660400-1676674800@www.gogaming.gg
SUMMARY:Valorant King Cup by Alienware
DESCRIPTION:Op 17 februari organiseert Go!Gaming een nieuw Online VALORANT Tournament met geweldige prijzen. Dit is ter aankondiging van aankomende knallende VALORANT events in samenwerking met Alienware en Team Liquid. \n\nVALORANT King Cup by Alienware – klik voor meer info\nVALORANT Viewing Parties of the VCT matches of Team Liquid in Go!Gaming Utrecht Leidsche Rijn – klik voor meer info\n\nHet gehele toernooi vindt online plaats\, alle teams zijn verplicht om de Go!Gaming publieke Discord te joinen. Dit toernooi is een warming-up voor het grote VALORANT King Cup by Alienware toernooi met een prijzenpot van €5000 bij Go!Gaming en de grote finale bij de H20 Esports Campus. \nPRIJZEN VOOR DIT TOERNOOI:  \n1ste = €250 eu + 5x Official Team Liquid Jersey + 5 tickets VALORANT Viewing Party 22 feb  \n2nd = €250 eu + 5 tickets VALORANT Viewing Party 22 feb \nDeelname voor dit toernooi is GRATIS. Je kan enkel met een volledig team inschrijven Prijzengeld wordt naar team captain overgemaakt. Jerseyz zijn op te halen bij de eerste viewing party van Team Liquid VALORANT Match in Utrecht Leidsche Rijn Enkel voor gamers uit NL/BE/LUX/DE. \nNog op zoek naar teamgenoten? Join onze Discord server en ontmoet andere gamers.
URL:https://www.gogaming.gg/event/alienware-king-of-the-league/
LOCATION:Discord\, Online\, Discord\, Nederland
CATEGORIES:Toernooi
ATTACH;FMTTYPE=image/jpeg:https://www.gogaming.gg/wp-content/uploads/2023/03/VKC_WebsiteHeader_1440x540.jpg
ORGANIZER;CN="Go!Gaming":MAILTO:klantenservice@gogaming.gg
END:VEVENT
END:VCALENDAR