BEGIN:VCALENDAR
VERSION:2.0
PRODID:-//Go!Gaming - ECPv6.2.3.2//NONSGML v1.0//EN
CALSCALE:GREGORIAN
METHOD:PUBLISH
X-ORIGINAL-URL:https://www.gogaming.gg
X-WR-CALDESC:Evenementen voor Go!Gaming
REFRESH-INTERVAL;VALUE=DURATION:PT1H
X-Robots-Tag:noindex
X-PUBLISHED-TTL:PT1H
BEGIN:VTIMEZONE
TZID:Europe/Amsterdam
BEGIN:DAYLIGHT
TZOFFSETFROM:+0100
TZOFFSETTO:+0200
TZNAME:CEST
DTSTART:20230326T010000
END:DAYLIGHT
BEGIN:STANDARD
TZOFFSETFROM:+0200
TZOFFSETTO:+0100
TZNAME:CET
DTSTART:20231029T010000
END:STANDARD
END:VTIMEZONE
BEGIN:VEVENT
DTSTART;TZID=Europe/Amsterdam:20230221T190000
DTEND;TZID=Europe/Amsterdam:20230221T210000
DTSTAMP:20260422T002944
CREATED:20221230T160018Z
LAST-MODIFIED:20221230T160018Z
UID:10000347-1677006000-1677013200@www.gogaming.gg
SUMMARY:Let's Play Xbox Game Pass
DESCRIPTION:Tijdens de Let’s Play sessions kan jij gratis leuke games spelen die onze partners beschikbaar stellen. Dinsdagen staan in het thema van Microsoft. Kom langs en speel leuke Microsoft games zoals Minecraft en Forza Horizon 5. \nDeelname is gratis voor alle Pathé en Go!Gaming bezoekers\, dus kom gezellig langs\, doe mee en maak kans op leuke goodies.
URL:https://www.gogaming.gg/event/lets-play-xbox-game-pass/2023-02-21/
LOCATION:Elke Go!Gaming Locatie\, Nederland
ATTACH;FMTTYPE=image/jpeg:https://www.gogaming.gg/wp-content/uploads/2022/10/XboXWebsiteHeader.jpg
END:VEVENT
END:VCALENDAR