BEGIN:VCALENDAR
VERSION:2.0
PRODID:-//Go!Gaming - ECPv6.2.3.2//NONSGML v1.0//EN
CALSCALE:GREGORIAN
METHOD:PUBLISH
X-ORIGINAL-URL:https://www.gogaming.gg
X-WR-CALDESC:Evenementen voor Go!Gaming
REFRESH-INTERVAL;VALUE=DURATION:PT1H
X-Robots-Tag:noindex
X-PUBLISHED-TTL:PT1H
BEGIN:VTIMEZONE
TZID:Europe/Amsterdam
BEGIN:DAYLIGHT
TZOFFSETFROM:+0100
TZOFFSETTO:+0200
TZNAME:CEST
DTSTART:20230326T010000
END:DAYLIGHT
BEGIN:STANDARD
TZOFFSETFROM:+0200
TZOFFSETTO:+0100
TZNAME:CET
DTSTART:20231029T010000
END:STANDARD
END:VTIMEZONE
BEGIN:VEVENT
DTSTART;TZID=Europe/Amsterdam:20230222T173000
DTEND;TZID=Europe/Amsterdam:20230222T223000
DTSTAMP:20260422T015422
CREATED:20230214T164558Z
LAST-MODIFIED:20230222T125239Z
UID:10000619-1677087000-1677105000@www.gogaming.gg
SUMMARY:Team liquid Valorant viewing party showed by Go!Gaming
DESCRIPTION:Team Liquid organiseert een officiële viewing party voor Team Liquid Valorant wedstrijden. Samen met Team Liquid fans worden de Valorant wedstrijden uitgezonden op het grote doek bij Go!Gaming Utrecht Leidsche Rijn. Beleef de wedstrijden met elkaar en juich voor Team Liquid! \nNa de viewing party organiseren wij nog een Valorant toernooi met ontzettend gave Team Liquid prijzen in het Go!Gaming center. Zo maak je kans op een official Team Liquid Jersey of de Blue Plushy 2.0. Team Liquid zorgt er voor dat er nog een pro-player aanwezig is om je wat tips & tricks te geven. \nDit wil je zeker niet missen\, koop je ticket en verzeker jou spot in de bioscoop!  \nDe eerste 50 tickets worden aangeboden door Team Liquid\, daarna kosten de tickets €12\,50 per stuk.
URL:https://www.gogaming.gg/event/team-liquid-valorant-viewing-party-showed-by-gogaming/
LOCATION:Go!Gaming Utrecht Leidsche Rijn\, Berlijnplein 100\, Utrecht\, Utrecht\, 3541 CM\, Nederland
ATTACH;FMTTYPE=image/png:https://www.gogaming.gg/wp-content/uploads/2023/02/1440x540v3.png
ORGANIZER;CN="Go!Gaming":MAILTO:klantenservice@gogaming.gg
END:VEVENT
BEGIN:VEVENT
DTSTART;TZID=Europe/Amsterdam:20230222T190000
DTEND;TZID=Europe/Amsterdam:20230222T230000
DTSTAMP:20260422T015422
CREATED:20220610T121241Z
LAST-MODIFIED:20230614T113639Z
UID:10000433-1677092400-1677106800@www.gogaming.gg
SUMMARY:Battle Royale Night
DESCRIPTION:Op woensdag van 19:00 tot 23:00 kun je bij elke GoGaming locatie terecht voor de wekelijkse Battle Royale Night. 3 uur lang kun je strijden voor de victory royales op onze gloednieuwe PC’s en consoles! \nStrijd jij mee tijdens de wekelijkse Battle Royale Night? Met een ticket ontvang je 3 uur gametime en een drankje naar keuze. Voor elke win krijg je direct Go!Coins op je account! \nDeelnemende games: \n\nFortnite\nFall Guys\nApex Legends\nPUBG\nCall of Duty: Warzone\n\nJe kan inloggen op je eigen account of gebruik maken van één van onze accounts om deze games te spelen.
URL:https://www.gogaming.gg/event/battle-royale-night-2022-07-06/2023-02-22/
LOCATION:Elke Go!Gaming Locatie\, Nederland
CATEGORIES:Thema Avond
ATTACH;FMTTYPE=image/png:https://www.gogaming.gg/wp-content/uploads/2021/12/Header_BattleRoyale.png
END:VEVENT
END:VCALENDAR