BEGIN:VCALENDAR
VERSION:2.0
PRODID:-//Go!Gaming - ECPv6.2.3.2//NONSGML v1.0//EN
CALSCALE:GREGORIAN
METHOD:PUBLISH
X-WR-CALNAME:Go!Gaming
X-ORIGINAL-URL:https://www.gogaming.gg
X-WR-CALDESC:Evenementen voor Go!Gaming
REFRESH-INTERVAL;VALUE=DURATION:PT1H
X-Robots-Tag:noindex
X-PUBLISHED-TTL:PT1H
BEGIN:VTIMEZONE
TZID:Europe/Amsterdam
BEGIN:DAYLIGHT
TZOFFSETFROM:+0100
TZOFFSETTO:+0200
TZNAME:CEST
DTSTART:20230326T010000
END:DAYLIGHT
BEGIN:STANDARD
TZOFFSETFROM:+0200
TZOFFSETTO:+0100
TZNAME:CET
DTSTART:20231029T010000
END:STANDARD
END:VTIMEZONE
BEGIN:VEVENT
DTSTART;TZID=Europe/Amsterdam:20230224T160000
DTEND;TZID=Europe/Amsterdam:20230224T210000
DTSTAMP:20260421T172547
CREATED:20230214T174659Z
LAST-MODIFIED:20230215T082518Z
UID:10000615-1677254400-1677272400@www.gogaming.gg
SUMMARY:Coca Cola Talent Days
DESCRIPTION:Word deel van de ultieme gaming-ervaring tijdens de Coca Cola Talent Days! Het 2 uur durend programma biedt de kans om VR-games te spelen\, mobiele games te spelen en een braintest af te leggen. \nHet is helemaal gratis om mee te doen\, en inschrijven kan eenvoudig via de Go!Gaming website. De eerste twee edities vinden plaats op 24 en 25 februari in Go!Gaming Utrecht en de laatste twee edities vinden plaats op 10 en 11 maart in Go!Gaming Rotterdam. \nEr zijn 30 plaatsen beschikbaar per tijdslot\, dus wees er snel bij om er zeker van te zijn dat je mee kunt doen. \nLaat je verrassen door Coca-Cola en maak kennis met de nieuwste en meest avontuurlijke games. Schrijf je nu in voor Coca-Cola Talent Days \nKlik hieronder op de datum om meteen naar de ticketpagina te gaan. \nUtrecht Leidsche Rijn\n24 Februari\n25 Februari \nRotterdam\n10 Maart\n11 Maart
URL:https://www.gogaming.gg/event/coca-cola-talent-days/2023-02-24/
ATTACH;FMTTYPE=image/jpeg:https://www.gogaming.gg/wp-content/uploads/2022/12/CCTD_WebsiteHeader-01-4-scaled.jpg
ORGANIZER;CN="Go!Gaming":MAILTO:klantenservice@gogaming.gg
END:VEVENT
BEGIN:VEVENT
DTSTART;TZID=Europe/Amsterdam:20230224T170000
DTEND;TZID=Europe/Amsterdam:20230224T230000
DTSTAMP:20260421T172547
CREATED:20230201T183738Z
LAST-MODIFIED:20230201T183738Z
UID:10000621-1677258000-1677279600@www.gogaming.gg
SUMMARY:Tournament Night: Overwatch 2
DESCRIPTION:Op 24 februari organiseert Go!Gaming voor het eerst een Overwatch 2 toernooi. In dit toernooi kan je het met jouw team opnemen tegen teams in andere steden. \nDoe mee aan het 5 vs 5 Overwatch 2 toernooi en maak kans op geweldige geldprijzen die kunnen oplopen tot wel 500 euro. \nHet gehele toernooi vindt plaats in de verschillende Go!Gaming centers.  \nDeelname kost 30 euro per team\, dus verzamel je vrienden en doe mee! \nJoin alvast onze Discord zodat je niks mist en eventuele vragen kunt stellen! \nPrijzen \nMinder dan 6 teams = cancelled \n6-16 teams =\n1ste = € 200\n2nd = 5x 2 uur game time \n16 + teams =\n1ste = € 350\n2nd = € 150\n3rd = 5x 2 uur game time \nRulebook\nKlik hier om de rulebook te lezen
URL:https://www.gogaming.gg/event/tournament-night-overwatch-2/
LOCATION:Elke Go!Gaming Locatie\, Nederland
CATEGORIES:Toernooi
ORGANIZER;CN="Go!Gaming":MAILTO:klantenservice@gogaming.gg
END:VEVENT
END:VCALENDAR