BEGIN:VCALENDAR
VERSION:2.0
PRODID:-//Go!Gaming - ECPv6.2.3.2//NONSGML v1.0//EN
CALSCALE:GREGORIAN
METHOD:PUBLISH
X-WR-CALNAME:Go!Gaming
X-ORIGINAL-URL:https://www.gogaming.gg
X-WR-CALDESC:Evenementen voor Go!Gaming
REFRESH-INTERVAL;VALUE=DURATION:PT1H
X-Robots-Tag:noindex
X-PUBLISHED-TTL:PT1H
BEGIN:VTIMEZONE
TZID:Europe/Amsterdam
BEGIN:DAYLIGHT
TZOFFSETFROM:+0100
TZOFFSETTO:+0200
TZNAME:CEST
DTSTART:20230326T010000
END:DAYLIGHT
BEGIN:STANDARD
TZOFFSETFROM:+0200
TZOFFSETTO:+0100
TZNAME:CET
DTSTART:20231029T010000
END:STANDARD
END:VTIMEZONE
BEGIN:VEVENT
DTSTART;TZID=Europe/Amsterdam:20230311T120000
DTEND;TZID=Europe/Amsterdam:20230311T180000
DTSTAMP:20260421T123303
CREATED:20230214T174659Z
LAST-MODIFIED:20230215T082518Z
UID:10000618-1678536000-1678557600@www.gogaming.gg
SUMMARY:Coca Cola Talent Days
DESCRIPTION:Word deel van de ultieme gaming-ervaring tijdens de Coca Cola Talent Days! Het 2 uur durend programma biedt de kans om VR-games te spelen\, mobiele games te spelen en een braintest af te leggen. \nHet is helemaal gratis om mee te doen\, en inschrijven kan eenvoudig via de Go!Gaming website. De eerste twee edities vinden plaats op 24 en 25 februari in Go!Gaming Utrecht en de laatste twee edities vinden plaats op 10 en 11 maart in Go!Gaming Rotterdam. \nEr zijn 30 plaatsen beschikbaar per tijdslot\, dus wees er snel bij om er zeker van te zijn dat je mee kunt doen. \nLaat je verrassen door Coca-Cola en maak kennis met de nieuwste en meest avontuurlijke games. Schrijf je nu in voor Coca-Cola Talent Days \nKlik hieronder op de datum om meteen naar de ticketpagina te gaan. \nUtrecht Leidsche Rijn\n24 Februari\n25 Februari \nRotterdam\n10 Maart\n11 Maart
URL:https://www.gogaming.gg/event/coca-cola-talent-days/2023-03-11/
ATTACH;FMTTYPE=image/jpeg:https://www.gogaming.gg/wp-content/uploads/2022/12/CCTD_WebsiteHeader-01-4-scaled.jpg
ORGANIZER;CN="Go!Gaming":MAILTO:klantenservice@gogaming.gg
END:VEVENT
BEGIN:VEVENT
DTSTART;TZID=Europe/Amsterdam:20230311T183000
DTEND;TZID=Europe/Amsterdam:20230311T223000
DTSTAMP:20260421T123303
CREATED:20230301T153131Z
LAST-MODIFIED:20230306T154016Z
UID:10000627-1678559400-1678573800@www.gogaming.gg
SUMMARY:Fortnite Light Cup with Philips Hue
DESCRIPTION:Kom meedoen aan het Go!Gaming Fortnite toernooi op 11 maart van 18:30 tot 22:30!  \nDeelname is gratis en er zijn geweldige Philips Hue prijzen te winnen. Als je mee wilt doen\, zorg er dan voor dat je op tijd klaar bent. Vanaf 18:30 elk kwartier zal er een game starten en de laatste game zal beginnen om 21:00. Alle punten die worden behaald tijdens de games zullen worden bijgehouden in leaderboards. Doe mee aan dit toernooi\, win prachtige prijzen en overtref je tegenstanders! \nHet gehele toernooi vindt plaats in onze Go!Gaming Discord en Yunite. Je kan niet meedoen als je niet in onze discord zit. Daarnaast moet je epic games account geconnect zijn met Yunite. Verder moet je de Yunite cliënt hebben gedownload op je computer. Over alle bovenstaande punten is in onze discord meer informatie te vinden. \nPrijzen: \n1ste – Philips Hue Bridge & Philips Hue Play Light bar Base unit & Philips Hue Go Portable light\n2e – Philips Hue Bridge & Philips Hue Play Light bar Base unit\n3e – Philips Hue Go Portable light \nRegels: \n\nNo Teaming\nNo pickaxe swinging to each other\nNo Spam crouching to other players\nDon’t use Streamer/Anonymous mode\n+13 years old
URL:https://www.gogaming.gg/event/fortnite-light-cup-with-philips-hue/
LOCATION:Discord\, Online\, Discord\, Nederland
CATEGORIES:Toernooi
ATTACH;FMTTYPE=image/png:https://www.gogaming.gg/wp-content/uploads/2023/03/FLC_WebsiteHeader.png
ORGANIZER;CN="Go!Gaming":MAILTO:klantenservice@gogaming.gg
END:VEVENT
END:VCALENDAR