BEGIN:VCALENDAR
VERSION:2.0
PRODID:-//Go!Gaming - ECPv6.2.3.2//NONSGML v1.0//EN
CALSCALE:GREGORIAN
METHOD:PUBLISH
X-WR-CALNAME:Go!Gaming
X-ORIGINAL-URL:https://www.gogaming.gg
X-WR-CALDESC:Evenementen voor Go!Gaming
REFRESH-INTERVAL;VALUE=DURATION:PT1H
X-Robots-Tag:noindex
X-PUBLISHED-TTL:PT1H
BEGIN:VTIMEZONE
TZID:Europe/Amsterdam
BEGIN:DAYLIGHT
TZOFFSETFROM:+0100
TZOFFSETTO:+0200
TZNAME:CEST
DTSTART:20230326T010000
END:DAYLIGHT
BEGIN:STANDARD
TZOFFSETFROM:+0200
TZOFFSETTO:+0100
TZNAME:CET
DTSTART:20231029T010000
END:STANDARD
END:VTIMEZONE
BEGIN:VEVENT
DTSTART;TZID=Europe/Amsterdam:20230407T180000
DTEND;TZID=Europe/Amsterdam:20230407T210000
DTSTAMP:20260421T062112
CREATED:20230314T091320Z
LAST-MODIFIED:20230407T150726Z
UID:10000633-1680890400-1680901200@www.gogaming.gg
SUMMARY:VCT Watch Party Valorant Team Liquid Match VS Karmine Corp
DESCRIPTION:Klaar voor de VCT?  \nTeam Liquid VALORANT neemt het op 7 april om 19:00 CET op tegen Team Karmine Corp voor hun eerste wedstrijd van de split. Je bent officieel uitgenodigd om de wedstrijd live te zien en Team Liquid aan te moedigen bij Pathé Leidsche Rijn in Utrecht! \nNaast het live kijkfeest is er ook een VALORANT-toernooi\, quizspellen met prijzen en een persoonlijke Team Liquid-merchandise-winkel. De eerste 50 tickethouders doen automatisch mee aan een speciale loterij\, waar de winnaar unieke Team Liquid-merchandise ontvangt. \nDus waar wacht je op? Doe mee op 7 april en laten we samen Team Liquid aanmoedigen! #LetsGoLiquid \nEr zullen watch party’s zijn gedurende de eerste vijf weken van de VCT-splitsing:\n28 maart @ 21:00 vs Team Vitality\n7 april @ 18:00 tegen Karmine Corp\n13 april @ 21:00 vs Fnatic\n19 april @ 21:00 vs Team Heretics\n26 april om 21:00 vs Giants \nEvenementenprogramma:\nTijdzone is Midden-Europese zomertijd (CEST) \n17:30 – Ga naar de bioscoopzaal voor de watchparty\n18:00 – Livestream Team Liquid vs Team Karmine Corp\n21:00 – SWIFT-toernooi in Go!Gaming. Meld je aan en creëer een team bij Go!Gaming.\n23:30 – Einde wachtfeestje
URL:https://www.gogaming.gg/event/vct-watch-party-valorant-team-liquid-match-vs-team-vitality-2023-04-07/
LOCATION:Go!Gaming Utrecht Leidsche Rijn\, Berlijnplein 100\, Utrecht\, Utrecht\, 3541 CM\, Nederland
ATTACH;FMTTYPE=image/png:https://www.gogaming.gg/wp-content/uploads/2023/03/1440x540.png
ORGANIZER;CN="Go!Gaming":MAILTO:klantenservice@gogaming.gg
END:VEVENT
BEGIN:VEVENT
DTSTART;TZID=Europe/Amsterdam:20230407T190000
DTEND;TZID=Europe/Amsterdam:20230407T230000
DTSTAMP:20260421T062112
CREATED:20230224T130436Z
LAST-MODIFIED:20230324T074702Z
UID:10000362-1680894000-1680908400@www.gogaming.gg
SUMMARY:Valorant King Cup by Alienware: Qualifications #3
DESCRIPTION:Op zaterdag 6 mei 2023 is de finale van de VALORANT King Cup by Alienware! Hier kun jij met je team aan meedoen door je de finale te halen van de online kwalificatietoernooien. De finale heeft een prijzenpot van 5000\,-!  In de online kwalificatietoernooien moet jij met je team in een single elimination de tegenstander probeert te verslaan. Lukt het om je te plaatsen voor de finale? Dan ben je aanwezig bij de finale en win je 5x een Alienware AW610M muis! \nBen jij geen pro in VALORANT? Maar vind je het wel heel leuk om het spel te spelen? Dan kun jij je hier individueel inschrijven voor het mixed VALORANT toernooi tijdens de finaledag! Hierin maakt het niet uit welke rank je hebt. Je maakt zelfs nog kans op een deel van de prijzenpot en prachtige peripherals! \nDe online kwalificatie avonden vinden plaats op 24 maart\, 31 maart\, 7 april en 14 april via FaceIt. Wanneer je bij de beste 2 van de avond hoort ben je door naar de finale! \n  \nLees hier meer over VALORANT King Cup by Alienware.
URL:https://www.gogaming.gg/event/alienware-valorant-king-of-the-league-qualifications-3/
LOCATION:Discord\, Online\, Discord\, Nederland
ATTACH;FMTTYPE=image/jpeg:https://www.gogaming.gg/wp-content/uploads/2023/03/VKC_WebsiteHeader_1440x540.jpg
ORGANIZER;CN="Go!Gaming":MAILTO:klantenservice@gogaming.gg
END:VEVENT
END:VCALENDAR