BEGIN:VCALENDAR
VERSION:2.0
PRODID:-//Go!Gaming - ECPv6.2.3.2//NONSGML v1.0//EN
CALSCALE:GREGORIAN
METHOD:PUBLISH
X-ORIGINAL-URL:https://www.gogaming.gg
X-WR-CALDESC:Evenementen voor Go!Gaming
REFRESH-INTERVAL;VALUE=DURATION:PT1H
X-Robots-Tag:noindex
X-PUBLISHED-TTL:PT1H
BEGIN:VTIMEZONE
TZID:Europe/Amsterdam
BEGIN:DAYLIGHT
TZOFFSETFROM:+0100
TZOFFSETTO:+0200
TZNAME:CEST
DTSTART:20230326T010000
END:DAYLIGHT
BEGIN:STANDARD
TZOFFSETFROM:+0200
TZOFFSETTO:+0100
TZNAME:CET
DTSTART:20231029T010000
END:STANDARD
END:VTIMEZONE
BEGIN:VEVENT
DTSTART;TZID=Europe/Amsterdam:20230415T113000
DTEND;TZID=Europe/Amsterdam:20230415T200000
DTSTAMP:20260421T093256
CREATED:20230320T135522Z
LAST-MODIFIED:20230320T135522Z
UID:10000629-1681558200-1681588800@www.gogaming.gg
SUMMARY:Mixtoernooi Dota 2 with Benedota
DESCRIPTION:Weten jullie nog toen Seleri de Dutch Dota Championships won 5 jaar geleden? Afgelopen 5 Maart heeft Nederlands beste Enchantress het een ook nog eens een stapje hoger waargemaakt. Hij is met de Lima Major overwinning van zijn team Gaimin Gladiators namelijk de eerste Nederlandse Major winnaar ooit geworden! \nEn met deze enorme inspirerende prestatie in je achterhoofd\, willen jullie natuurlijk zelf ook allemaal Dota kampioenen worden. Blijf dan niet je MMR verliezen in solo que\, maar kom naar het volgende Benedota Mixtoernooi! Want op 15 april 2023 van 11:30 tot 20:00 zal de volgende editie van ons befaamde mixtoernooi plaatsvinden. En dit keer organiseren we het in samenwerking met Go!Gaming bij Pathé Utrecht Leidsche Rijn. Een stuk bereikbaarder dus als je Scheveningen te ver weg vond. \nOm mee te kunnen doen moet je bij ons een ticket kopen van 15 euro. Maar als je een echte kampioen bent kun je dat dubbel en dwars terug verdienen. De winnaars van dit mixtoernooi winnen namelijk een prijs van 150 euro. Verder moet we jullie er wel op wijzen dat voor dit mixtoernooi het helaas niet mogelijk is om je eigen periferals aan te sluiten zoals een headset\, muis en keyboard. Maar de gear van Go!Gaming is van topkwaliteit dus dat hoeft absoluut geen probleem te zijn. \nZien we je dan? Boek je ticket via bovenstaande button!
URL:https://www.gogaming.gg/event/mixtoernooi-dota-2-with-benedota/
LOCATION:Go!Gaming Utrecht Leidsche Rijn\, Berlijnplein 100\, Utrecht\, Utrecht\, 3541 CM\, Nederland
ATTACH;FMTTYPE=image/png:https://www.gogaming.gg/wp-content/uploads/2023/03/MXT_Utrecht.png
ORGANIZER;CN="Go!Gaming":MAILTO:klantenservice@gogaming.gg
END:VEVENT
END:VCALENDAR