BEGIN:VCALENDAR
VERSION:2.0
PRODID:-//Go!Gaming - ECPv6.2.3.2//NONSGML v1.0//EN
CALSCALE:GREGORIAN
METHOD:PUBLISH
X-WR-CALNAME:Go!Gaming
X-ORIGINAL-URL:https://www.gogaming.gg
X-WR-CALDESC:Evenementen voor Go!Gaming
REFRESH-INTERVAL;VALUE=DURATION:PT1H
X-Robots-Tag:noindex
X-PUBLISHED-TTL:PT1H
BEGIN:VTIMEZONE
TZID:Europe/Amsterdam
BEGIN:DAYLIGHT
TZOFFSETFROM:+0100
TZOFFSETTO:+0200
TZNAME:CEST
DTSTART:20230326T010000
END:DAYLIGHT
BEGIN:STANDARD
TZOFFSETFROM:+0200
TZOFFSETTO:+0100
TZNAME:CET
DTSTART:20231029T010000
END:STANDARD
END:VTIMEZONE
BEGIN:VEVENT
DTSTART;TZID=Europe/Amsterdam:20230418T180000
DTEND;TZID=Europe/Amsterdam:20230418T230000
DTSTAMP:20260421T062056
CREATED:20230327T094949Z
LAST-MODIFIED:20230417T081036Z
UID:10000628-1681840800-1681858800@www.gogaming.gg
SUMMARY:Fortnite Offline Cup @Go!Gaming Utrecht
DESCRIPTION:Wil jij jouw Fortnite skills testen tegen andere spelers in een 1v1 toernooi? Dan mag je de Fortnite Offline Cup @Go!Gaming Utrecht niet missen! \nOp dinsdag 18 april\, komen gamers uit heel Nederland samen in Utrecht om te strijden voor de ultieme titel van Fortnite-kampioen. Het toernooi is geschikt voor alle levels\, of je nu een beginner bent of een ervaren Fortnite speler. Als je meedoet aan de Fortnite Offline Cup\, krijg je de kans om jouw vaardigheden te tonen en het op te nemen tegen andere Fortnite spelers in een 1v1 wedstrijd. De gamemode is zone wars\, wat zorgt voor een spannende en uitdagende ervaring. \nNaast het spelen van het toernooi\, kun je ook genieten van de sfeer en gezelligheid in het Go!Gaming center. Het is de perfecte plek om nieuwe vrienden te maken\, te chillen met andere gamers en natuurlijk te genieten van de nieuwste games. \nEen ticket voor het Fortnite Offline Cup kost slechts 20 euro\, en met een prijzenpot van in totaal 350 euro is het de perfecte gelegenheid om een leuk bedrag te winnen. De eerste prijs is 150 euro\, de tweede prijs is 100 euro en de derde prijs is 50 euro. \nWees er snel bij\, want er zijn beperkte plekken beschikbaar voor het toernooi. Mis deze kans niet om deel te nemen aan het Fortnite Offline Cup @Go!Gaming Utrecht en schrijf je nu in! \nPrijzen:\n1e plek = 150 euro\n2e plek = 100 euro\n3e plek = 50 euro
URL:https://www.gogaming.gg/event/fortnite-offline-cup-gogaming-utrecht/
LOCATION:Go!Gaming Utrecht Leidsche Rijn\, Berlijnplein 100\, Utrecht\, Utrecht\, 3541 CM\, Nederland
CATEGORIES:Toernooi
ATTACH;FMTTYPE=image/png:https://www.gogaming.gg/wp-content/uploads/2023/03/FOC_WebsiteHeader.png
ORGANIZER;CN="Go!Gaming":MAILTO:klantenservice@gogaming.gg
END:VEVENT
END:VCALENDAR