BEGIN:VCALENDAR
VERSION:2.0
PRODID:-//Go!Gaming - ECPv6.2.3.2//NONSGML v1.0//EN
CALSCALE:GREGORIAN
METHOD:PUBLISH
X-WR-CALNAME:Go!Gaming
X-ORIGINAL-URL:https://www.gogaming.gg
X-WR-CALDESC:Evenementen voor Go!Gaming
REFRESH-INTERVAL;VALUE=DURATION:PT1H
X-Robots-Tag:noindex
X-PUBLISHED-TTL:PT1H
BEGIN:VTIMEZONE
TZID:Europe/Amsterdam
BEGIN:DAYLIGHT
TZOFFSETFROM:+0100
TZOFFSETTO:+0200
TZNAME:CEST
DTSTART:20230326T010000
END:DAYLIGHT
BEGIN:STANDARD
TZOFFSETFROM:+0200
TZOFFSETTO:+0100
TZNAME:CET
DTSTART:20231029T010000
END:STANDARD
END:VTIMEZONE
BEGIN:VEVENT
DTSTART;TZID=Europe/Amsterdam:20230428T120000
DTEND;TZID=Europe/Amsterdam:20230507T180000
DTSTAMP:20260421T062152
CREATED:20230424T202748Z
LAST-MODIFIED:20230614T104725Z
UID:10000366-1682683200-1683482400@www.gogaming.gg
SUMMARY:Hackshield
DESCRIPTION:HackShield is voor kinderen tussen de 8 en 12 jaar en leert je spelenderwijs jezelf te wapenen tegen cybercriminaliteit. Via een spannend spel leer je over de gevaren van het internet en hoe je deze gevaren tegen kunt gaan. Hiermee maak je niet alleen jezelf\, maar mogelijk ook je directe omgeving cyberveilig. Gedurende de meivakantie ben je welkom om gratis te komen gamen tussen 12:00 tot 18:00 op de aangeweze computers. De drie cyberagents met de hoogste scores winnen een toffe prijs! Zien wij jou deze meivakantie?
URL:https://www.gogaming.gg/event/hackshield-3/
LOCATION:Go!Gaming Schouwburgplein\, Schouwburgplein 101\, Rotterdam\, Zuid-Holland\, 3012CL\, Nederland
CATEGORIES:Overig
ATTACH;FMTTYPE=image/jpeg:https://www.gogaming.gg/wp-content/uploads/2022/08/jdg_15-08-22_HackShield_3D0A4490-scaled.jpg
END:VEVENT
BEGIN:VEVENT
DTSTART;TZID=Europe/Amsterdam:20230503T190000
DTEND;TZID=Europe/Amsterdam:20230503T230000
DTSTAMP:20260421T062152
CREATED:20220610T121241Z
LAST-MODIFIED:20230614T113639Z
UID:10000442-1683140400-1683154800@www.gogaming.gg
SUMMARY:Battle Royale Night
DESCRIPTION:Op woensdag van 19:00 tot 23:00 kun je bij elke GoGaming locatie terecht voor de wekelijkse Battle Royale Night. 3 uur lang kun je strijden voor de victory royales op onze gloednieuwe PC’s en consoles! \nStrijd jij mee tijdens de wekelijkse Battle Royale Night? Met een ticket ontvang je 3 uur gametime en een drankje naar keuze. Voor elke win krijg je direct Go!Coins op je account! \nDeelnemende games: \n\nFortnite\nFall Guys\nApex Legends\nPUBG\nCall of Duty: Warzone\n\nJe kan inloggen op je eigen account of gebruik maken van één van onze accounts om deze games te spelen.
URL:https://www.gogaming.gg/event/battle-royale-night-2022-07-06/2023-05-03/
LOCATION:Elke Go!Gaming Locatie\, Nederland
CATEGORIES:Thema Avond
ATTACH;FMTTYPE=image/png:https://www.gogaming.gg/wp-content/uploads/2021/12/Header_BattleRoyale.png
END:VEVENT
END:VCALENDAR