BEGIN:VCALENDAR
VERSION:2.0
PRODID:-//Go!Gaming - ECPv6.2.3.2//NONSGML v1.0//EN
CALSCALE:GREGORIAN
METHOD:PUBLISH
X-WR-CALNAME:Go!Gaming
X-ORIGINAL-URL:https://www.gogaming.gg
X-WR-CALDESC:Evenementen voor Go!Gaming
REFRESH-INTERVAL;VALUE=DURATION:PT1H
X-Robots-Tag:noindex
X-PUBLISHED-TTL:PT1H
BEGIN:VTIMEZONE
TZID:Europe/Amsterdam
BEGIN:DAYLIGHT
TZOFFSETFROM:+0100
TZOFFSETTO:+0200
TZNAME:CEST
DTSTART:20230326T010000
END:DAYLIGHT
BEGIN:STANDARD
TZOFFSETFROM:+0200
TZOFFSETTO:+0100
TZNAME:CET
DTSTART:20231029T010000
END:STANDARD
END:VTIMEZONE
BEGIN:VEVENT
DTSTART;TZID=Europe/Amsterdam:20230513T120000
DTEND;TZID=Europe/Amsterdam:20230513T180000
DTSTAMP:20260421T062147
CREATED:20230424T094155Z
LAST-MODIFIED:20230614T104711Z
UID:10000365-1683979200-1684000800@www.gogaming.gg
SUMMARY:Go!Gaming Utrecht 1Y Anniversary
DESCRIPTION:Gamers\, zet de datum 13 mei in jullie agenda! Het 1-jarig jubileum van Go!Gaming Utrecht is hier en we vieren het in stijl. \nGo!Gaming Utrecht is 1 jaar oud geworden en daarom kan jij voor maar 1 euro 2 uur lang komen gamen! Dat klopt\, je hebt 2 uur de tijd om challenges aan te gaan\, te strijden tegen andere spelers en prijzen te winnen. Mis deze unieke kans niet om de beste gaming experience in Utrecht te ervaren. Het tijdslot zal beginnen met een welkomstwoord vanuit Go!Gaming. \nBezoek het jubileumevent van Go!Gaming Utrecht op 13 mei tussen 12:00 en 18:00 en laat het gamen beginnen.  \nEen ticket voor een tijdslot geeft recht tot: \n\nToegang tot Open dag Go!Gaming in je tijdslot\nVrije game vloer\, vrij te spelen\nDeelname aan challenges + activiteiten\, indien beschikbaar\n\nKies je tijdslot bij ticketverkoop. \n\n12:00 – 14:00\n14:00 – 16:00\n16:00 – 18:00 \n\nEr zijn 40 slots beschikbaar per tijdslot\, dus wees er snel bij! \nLet op: iedereen kan zich voor maximaal 1 tijdslot inschrijven.
URL:https://www.gogaming.gg/event/gogaming-utrecht-1y-anniversary/
LOCATION:Go!Gaming Utrecht Leidsche Rijn\, Berlijnplein 100\, Utrecht\, Utrecht\, 3541 CM\, Nederland
CATEGORIES:Thema Avond
ATTACH;FMTTYPE=image/png:https://www.gogaming.gg/wp-content/uploads/2023/04/AnniversaryUtrecht_Header.png
ORGANIZER;CN="Go!Gaming":MAILTO:klantenservice@gogaming.gg
END:VEVENT
BEGIN:VEVENT
DTSTART;TZID=Europe/Amsterdam:20230513T160000
DTEND;TZID=Europe/Amsterdam:20230513T180000
DTSTAMP:20260421T062147
CREATED:20230425T085925Z
LAST-MODIFIED:20230614T104705Z
UID:10000368-1683993600-1684000800@www.gogaming.gg
SUMMARY:Let’s Play powered by Activ8
DESCRIPTION:Kom en doe mee aan het spannende Let’s Play-evenement\, aangedreven door Activ8! Het beste van alles? De deelname is volledig gratis voor bezoekers van Go!Gaming en Pathé! Doe mee en maak kans op fantastische prijzen van Activ8\, zoals gratis voeding\, samples en promotiecodes. \nHet evenement zal plaatsvinden op 13 mei tussen 16:00 en 18:00 uur bij Go!Gaming Nijmegen en Go!Gaming Rotterdam. De game die we zullen spelen is FIFA 23\, dus voetballiefhebbers\, dit evenement is speciaal voor jou! \nVerzamel je vrienden en kom naar Let’s Play\, waar je een geweldige tijd zult hebben en de kans krijgt om geweldige prijzen te winnen. Mis deze unieke kans niet om deel te nemen aan een geweldig evenement en jezelf te meten met andere FIFA-gamers
URL:https://www.gogaming.gg/event/lets-play-powered-by-activ8/
LOCATION:Meerdere locaties\, check de informatie.\, Nederland
CATEGORIES:Thema Avond
ORGANIZER;CN="Go!Gaming":MAILTO:klantenservice@gogaming.gg
END:VEVENT
END:VCALENDAR