BEGIN:VCALENDAR
VERSION:2.0
PRODID:-//Go!Gaming - ECPv6.2.3.2//NONSGML v1.0//EN
CALSCALE:GREGORIAN
METHOD:PUBLISH
X-ORIGINAL-URL:https://www.gogaming.gg
X-WR-CALDESC:Evenementen voor Go!Gaming
REFRESH-INTERVAL;VALUE=DURATION:PT1H
X-Robots-Tag:noindex
X-PUBLISHED-TTL:PT1H
BEGIN:VTIMEZONE
TZID:Europe/Amsterdam
BEGIN:DAYLIGHT
TZOFFSETFROM:+0100
TZOFFSETTO:+0200
TZNAME:CEST
DTSTART:20230326T010000
END:DAYLIGHT
BEGIN:STANDARD
TZOFFSETFROM:+0200
TZOFFSETTO:+0100
TZNAME:CET
DTSTART:20231029T010000
END:STANDARD
END:VTIMEZONE
BEGIN:VEVENT
DTSTART;TZID=Europe/Amsterdam:20230519T180000
DTEND;TZID=Europe/Amsterdam:20230519T210000
DTSTAMP:20260421T075649
CREATED:20230314T091320Z
LAST-MODIFIED:20230614T104700Z
UID:10000630-1684519200-1684530000@www.gogaming.gg
SUMMARY:VCT Watch Party Valorant Team Liquid Match VS KOI
DESCRIPTION:Klaar voor de VCT?  \nTeam Liquid VALORANT neemt het op 19 mei 18:00 CET op tegen KOI voor hun laatste match in de VCT split. Je bent officieel uitgenodigd om de wedstrijd GRATIS live te zien en Team Liquid aan te moedigen bij Pathé Leidsche Rijn in Utrecht! \nKOI is een nieuwe tegenstander\, maar dat is geen reden om ze te onderschatten. Bovendien zullen beide teams tijdens de laatste wedstrijd van de VCT-split strijden om een plek in de playoff-fase en een grotere kans op een betere seeding. \nNaast de live watchparty is er ook een VALORANT-toernooi\, quizspellen met prijzen en een persoonlijke Team Liquid-merchandise-winkel. Het evenement is GRATIS. \nDus waar wacht je nog op? Doe GRATIS mee op 19 mei en laten we samen Team Liquid aanmoedigen! #LetsGoLiquid  \n  \nEr zullen watch party’s zijn gedurende de VCT-splitsing:\n5 mei @ 18:00 vs Natus Vincere\n19 mei @ 18:00 vs KOI \nEvenementenprogramma:\n17:45 – Ga naar de bioscoopzaal voor de wedstrijd\n18:00 – Livestream Team Liquid vs Team KOI\n20:30 – Einde Watch Party en start Valorant Swift toernooi\n22:30 – Einde event \nBestel je gratis tickets direct hier!
URL:https://www.gogaming.gg/event/vct-watch-party-valorant-team-liquid-match-vs-team-koi-2023-05-19/
LOCATION:Go!Gaming Utrecht Leidsche Rijn\, Berlijnplein 100\, Utrecht\, Utrecht\, 3541 CM\, Nederland
CATEGORIES:Viewing Party
ATTACH;FMTTYPE=image/png:https://www.gogaming.gg/wp-content/uploads/2023/03/1440x540.png
ORGANIZER;CN="Go!Gaming":MAILTO:klantenservice@gogaming.gg
END:VEVENT
END:VCALENDAR