BEGIN:VCALENDAR
VERSION:2.0
PRODID:-//Go!Gaming - ECPv6.2.3.2//NONSGML v1.0//EN
CALSCALE:GREGORIAN
METHOD:PUBLISH
X-ORIGINAL-URL:https://www.gogaming.gg
X-WR-CALDESC:Evenementen voor Go!Gaming
REFRESH-INTERVAL;VALUE=DURATION:PT1H
X-Robots-Tag:noindex
X-PUBLISHED-TTL:PT1H
BEGIN:VTIMEZONE
TZID:Europe/Amsterdam
BEGIN:DAYLIGHT
TZOFFSETFROM:+0100
TZOFFSETTO:+0200
TZNAME:CEST
DTSTART:20230326T010000
END:DAYLIGHT
BEGIN:STANDARD
TZOFFSETFROM:+0200
TZOFFSETTO:+0100
TZNAME:CET
DTSTART:20231029T010000
END:STANDARD
END:VTIMEZONE
BEGIN:VEVENT
DTSTART;TZID=Europe/Amsterdam:20230621T190000
DTEND;TZID=Europe/Amsterdam:20230621T220000
DTSTAMP:20260421T031041
CREATED:20230509T081356Z
LAST-MODIFIED:20230614T104636Z
UID:10000371-1687374000-1687384800@www.gogaming.gg
SUMMARY:Fortnite Duo Championships - Online Summer Special #1
DESCRIPTION:Ben jij samen met je duo teammate onverslaanbaar in Fortnite? Laat zien wat jullie in huis hebben en versla de rest! \nOp 21 juni wordt er in de Go!Gaming Discord server een online Fortnite toernooi georganiseerd. Deelname is mogelijk vanaf eigen PC\, het is dus niet verplicht om in een Go!Gaming locatie aanwezig te zijn. \nSchrijf je snel in via onderstaand formulier (Duo’s moeten zich apart aanmelden!)
URL:https://www.gogaming.gg/event/black-friday-online-tournament-special/
LOCATION:Discord\, Online\, Discord\, Nederland
CATEGORIES:Competitie,Toernooi
ATTACH;FMTTYPE=image/png:https://www.gogaming.gg/wp-content/uploads/2023/05/AFDC_Websiteheader_1440x540.png
ORGANIZER;CN="Go!Gaming":MAILTO:klantenservice@gogaming.gg
END:VEVENT
BEGIN:VEVENT
DTSTART;TZID=Europe/Amsterdam:20230621T190000
DTEND;TZID=Europe/Amsterdam:20230621T230000
DTSTAMP:20260421T031041
CREATED:20220610T121241Z
LAST-MODIFIED:20230614T113639Z
UID:10000449-1687374000-1687388400@www.gogaming.gg
SUMMARY:Battle Royale Night
DESCRIPTION:Op woensdag van 19:00 tot 23:00 kun je bij elke GoGaming locatie terecht voor de wekelijkse Battle Royale Night. 3 uur lang kun je strijden voor de victory royales op onze gloednieuwe PC’s en consoles! \nStrijd jij mee tijdens de wekelijkse Battle Royale Night? Met een ticket ontvang je 3 uur gametime en een drankje naar keuze. Voor elke win krijg je direct Go!Coins op je account! \nDeelnemende games: \n\nFortnite\nFall Guys\nApex Legends\nPUBG\nCall of Duty: Warzone\n\nJe kan inloggen op je eigen account of gebruik maken van één van onze accounts om deze games te spelen.
URL:https://www.gogaming.gg/event/battle-royale-night-2022-07-06/2023-06-21/
LOCATION:Elke Go!Gaming Locatie\, Nederland
CATEGORIES:Thema Avond
ATTACH;FMTTYPE=image/png:https://www.gogaming.gg/wp-content/uploads/2021/12/Header_BattleRoyale.png
END:VEVENT
END:VCALENDAR