BEGIN:VCALENDAR
VERSION:2.0
PRODID:-//Go!Gaming - ECPv6.2.3.2//NONSGML v1.0//EN
CALSCALE:GREGORIAN
METHOD:PUBLISH
X-WR-CALNAME:Go!Gaming
X-ORIGINAL-URL:https://www.gogaming.gg
X-WR-CALDESC:Evenementen voor Go!Gaming
REFRESH-INTERVAL;VALUE=DURATION:PT1H
X-Robots-Tag:noindex
X-PUBLISHED-TTL:PT1H
BEGIN:VTIMEZONE
TZID:Europe/Amsterdam
BEGIN:DAYLIGHT
TZOFFSETFROM:+0100
TZOFFSETTO:+0200
TZNAME:CEST
DTSTART:20230326T010000
END:DAYLIGHT
BEGIN:STANDARD
TZOFFSETFROM:+0200
TZOFFSETTO:+0100
TZNAME:CET
DTSTART:20231029T010000
END:STANDARD
END:VTIMEZONE
BEGIN:VEVENT
DTSTART;TZID=Europe/Amsterdam:20231007T100000
DTEND;TZID=Europe/Amsterdam:20231007T180000
DTSTAMP:20260420T175448
CREATED:20230804T095354Z
LAST-MODIFIED:20230804T095411Z
UID:10000809-1696672800-1696701600@www.gogaming.gg
SUMMARY:Grand Final Dutch Media Finals Featuring Rocket League
DESCRIPTION:Heb jij en je team je gekwalificeerd voor de Dutch Media Finals Featuring Rocket League? Dan ben je van harte welkom op 7 oktober 2023 in het Museum van Beeld en Geluid in Hilversum. Heel veel succes! \nWil je komen kijken als toeschouwer? Dat kan ook! Ga naar deze website voor meer informatie. \n 
URL:https://www.gogaming.gg/event/grand-final-dutch-media-finals-featuring-rocket-league/
LOCATION:Meerdere locaties\, check de informatie.\, Nederland
CATEGORIES:Toernooi
ATTACH;FMTTYPE=image/png:https://www.gogaming.gg/wp-content/uploads/2023/08/DMW_1600x480_02.png
END:VEVENT
END:VCALENDAR