BEGIN:VCALENDAR
VERSION:2.0
PRODID:-//Go!Gaming - ECPv6.2.3.2//NONSGML v1.0//EN
CALSCALE:GREGORIAN
METHOD:PUBLISH
X-ORIGINAL-URL:https://www.gogaming.gg
X-WR-CALDESC:Evenementen voor Go!Gaming
REFRESH-INTERVAL;VALUE=DURATION:PT1H
X-Robots-Tag:noindex
X-PUBLISHED-TTL:PT1H
BEGIN:VTIMEZONE
TZID:Europe/Amsterdam
BEGIN:DAYLIGHT
TZOFFSETFROM:+0100
TZOFFSETTO:+0200
TZNAME:CEST
DTSTART:20230326T010000
END:DAYLIGHT
BEGIN:STANDARD
TZOFFSETFROM:+0200
TZOFFSETTO:+0100
TZNAME:CET
DTSTART:20231029T010000
END:STANDARD
END:VTIMEZONE
BEGIN:VEVENT
DTSTART;TZID=Europe/Amsterdam:20230701T100000
DTEND;TZID=Europe/Amsterdam:20230701T140000
DTSTAMP:20260420T221926
CREATED:20230515T091403Z
LAST-MODIFIED:20230614T104608Z
UID:10000641-1688205600-1688220000@www.gogaming.gg
SUMMARY:Regional Championships: Rotterdam\, Nijmegen en Groningen
DESCRIPTION:Ben jij samen met je duo teammate onverslaanbaar in Fortnite? Laat zien wat jullie in huis hebben en versla de rest! \nDe Alienware Fortnite Duo Championships heeft verschillende kwalificatie momenten en een grote finale op vrijdag 28 juli 2023 in het H20 Rabo Esports Stadium waar er gestreden wordt om een dikke prijzenpot. Het totale prijzengeld van de Championships bedraagt € 5.400\,-. \nMeld jezelf en je teammate aan via bovenstaande link in de button. Tickets zijn 5 euro per persoon. Wees er snel bij\, want het aantal tickets is beperkt. \nTicketprijs €5: geeft toegang tot de City League of Regionale Kwalificaties en is incl. 1 drankje en snack. Meedoen is mogelijk vanaf 12 jaar.
URL:https://www.gogaming.gg/event/regional-championships-rotterdam-nijmegen-en-groningen/2023-07-01/
LOCATION:Meerdere locaties\, check de informatie.\, Nederland
CATEGORIES:Competitie,Toernooi
ATTACH;FMTTYPE=image/png:https://www.gogaming.gg/wp-content/uploads/2023/05/AFDC_WebsiteBanner_768x250.png
END:VEVENT
BEGIN:VEVENT
DTSTART;TZID=Europe/Amsterdam:20230705T190000
DTEND;TZID=Europe/Amsterdam:20230705T230000
DTSTAMP:20260420T221926
CREATED:20220610T121241Z
LAST-MODIFIED:20230614T113639Z
UID:10000451-1688583600-1688598000@www.gogaming.gg
SUMMARY:Battle Royale Night
DESCRIPTION:Op woensdag van 19:00 tot 23:00 kun je bij elke GoGaming locatie terecht voor de wekelijkse Battle Royale Night. 3 uur lang kun je strijden voor de victory royales op onze gloednieuwe PC’s en consoles! \nStrijd jij mee tijdens de wekelijkse Battle Royale Night? Met een ticket ontvang je 3 uur gametime en een drankje naar keuze. Voor elke win krijg je direct Go!Coins op je account! \nDeelnemende games: \n\nFortnite\nFall Guys\nApex Legends\nPUBG\nCall of Duty: Warzone\n\nJe kan inloggen op je eigen account of gebruik maken van één van onze accounts om deze games te spelen.
URL:https://www.gogaming.gg/event/battle-royale-night-2022-07-06/2023-07-05/
LOCATION:Elke Go!Gaming Locatie\, Nederland
CATEGORIES:Thema Avond
ATTACH;FMTTYPE=image/png:https://www.gogaming.gg/wp-content/uploads/2021/12/Header_BattleRoyale.png
END:VEVENT
BEGIN:VEVENT
DTSTART;TZID=Europe/Amsterdam:20230706T173000
DTEND;TZID=Europe/Amsterdam:20230706T213000
DTSTAMP:20260420T221926
CREATED:20230515T073518Z
LAST-MODIFIED:20230620T121046Z
UID:10000639-1688664600-1688679000@www.gogaming.gg
SUMMARY:City League Qualification #4
DESCRIPTION:Ben jij samen met je duo teammate onverslaanbaar in Fortnite? Laat zien wat jullie in huis hebben en versla de rest! \nDe Alienware Fortnite Duo Championships heeft verschillende kwalificatie momenten en een grote finale op vrijdag 28 juli 2023 in het H20 Rabo Esports Stadium waar er gestreden wordt om een dikke prijzenpot. Het totale prijzengeld van de Championships bedraagt € 5.400\,-. \nMeld jezelf en je teammate aan via bovenstaande link in de button. Tickets zijn 5 euro per persoon. Wees er snel bij\, want het aantal tickets is beperkt. \nTicketprijs €5: geeft toegang tot de City League of Regionale Kwalificaties en is incl. 1 drankje en snack. Meedoen is mogelijk vanaf 12 jaar. \nPROGRAMMA\n17:30 – Get in bij Go!Gaming om warm te spelen\n18:30 – Warmspelen voorbij\, voorbereiden op Fortnite Game 1\n19:00 – Start Game 1 \nBE ON TIME!
URL:https://www.gogaming.gg/event/city-league-qualification-4/
LOCATION:Elke Go!Gaming Locatie\, Nederland
CATEGORIES:Competitie
ATTACH;FMTTYPE=image/png:https://www.gogaming.gg/wp-content/uploads/2023/05/AFDC_WebsiteBanner_768x250.png
END:VEVENT
BEGIN:VEVENT
DTSTART;TZID=Europe/Amsterdam:20230708T100000
DTEND;TZID=Europe/Amsterdam:20230708T140000
DTSTAMP:20260420T221926
CREATED:20230515T091403Z
LAST-MODIFIED:20230704T145926Z
UID:10000642-1688810400-1688824800@www.gogaming.gg
SUMMARY:Regional Championships: Utrecht\, Maastricht*\, Purmerend
DESCRIPTION:Ben jij samen met je duo teammate onverslaanbaar in Fortnite? Laat zien wat jullie in huis hebben en versla de rest! \nDe Alienware Fortnite Duo Championships heeft verschillende kwalificatie momenten en een grote finale op vrijdag 28 juli 2023 in het H20 Rabo Esports Stadium waar er gestreden wordt om een dikke prijzenpot. Het totale prijzengeld van de Championships bedraagt € 5.400\,-. \nMeld jezelf en je teammate aan via bovenstaande link in de button. Tickets zijn 5 euro per persoon. Wees er snel bij\, want het aantal tickets is beperkt. \nTicketprijs €5: geeft toegang tot de City League of Regionale Kwalificaties en is incl. 1 drankje en snack. Meedoen is mogelijk vanaf 12 jaar. \n*de regional begint om 11 uur in Maastricht
URL:https://www.gogaming.gg/event/regional-championships-rotterdam-nijmegen-en-groningen-2023-07-08/
LOCATION:Meerdere locaties\, check de informatie.\, Nederland
CATEGORIES:Competitie,Toernooi
ATTACH;FMTTYPE=image/png:https://www.gogaming.gg/wp-content/uploads/2023/05/AFDC_WebsiteBanner_768x250.png
END:VEVENT
BEGIN:VEVENT
DTSTART;TZID=Europe/Amsterdam:20230712T190000
DTEND;TZID=Europe/Amsterdam:20230712T220000
DTSTAMP:20260420T221926
CREATED:20230509T082953Z
LAST-MODIFIED:20230614T104544Z
UID:10000372-1689188400-1689199200@www.gogaming.gg
SUMMARY:Fortnite Duo Championships - Online Summer Special #2
DESCRIPTION:Ben jij samen met je duo teammate onverslaanbaar in Fortnite? Laat zien wat jullie in huis hebben en versla de rest! \nOp 12 juli wordt er in de Go!Gaming Discord server een online Fortnite toernooi georganiseerd. Deelname is mogelijk vanaf eigen PC\, het is dus niet verplicht om in een Go!Gaming locatie aanwezig te zijn. \nSchrijf je snel in via onderstaand formulier (Duo’s moeten zich apart aanmelden!)
URL:https://www.gogaming.gg/event/black-friday-online-tournament-special-2/
LOCATION:Discord\, Online\, Discord\, Nederland
CATEGORIES:Competitie,Toernooi
ATTACH;FMTTYPE=image/png:https://www.gogaming.gg/wp-content/uploads/2023/05/AFDC_Websiteheader_1440x540.png
ORGANIZER;CN="Go!Gaming":MAILTO:klantenservice@gogaming.gg
END:VEVENT
BEGIN:VEVENT
DTSTART;TZID=Europe/Amsterdam:20230712T190000
DTEND;TZID=Europe/Amsterdam:20230712T230000
DTSTAMP:20260420T221926
CREATED:20220610T121241Z
LAST-MODIFIED:20230614T113639Z
UID:10000452-1689188400-1689202800@www.gogaming.gg
SUMMARY:Battle Royale Night
DESCRIPTION:Op woensdag van 19:00 tot 23:00 kun je bij elke GoGaming locatie terecht voor de wekelijkse Battle Royale Night. 3 uur lang kun je strijden voor de victory royales op onze gloednieuwe PC’s en consoles! \nStrijd jij mee tijdens de wekelijkse Battle Royale Night? Met een ticket ontvang je 3 uur gametime en een drankje naar keuze. Voor elke win krijg je direct Go!Coins op je account! \nDeelnemende games: \n\nFortnite\nFall Guys\nApex Legends\nPUBG\nCall of Duty: Warzone\n\nJe kan inloggen op je eigen account of gebruik maken van één van onze accounts om deze games te spelen.
URL:https://www.gogaming.gg/event/battle-royale-night-2022-07-06/2023-07-12/
LOCATION:Elke Go!Gaming Locatie\, Nederland
CATEGORIES:Thema Avond
ATTACH;FMTTYPE=image/png:https://www.gogaming.gg/wp-content/uploads/2021/12/Header_BattleRoyale.png
END:VEVENT
BEGIN:VEVENT
DTSTART;TZID=Europe/Amsterdam:20230713T173000
DTEND;TZID=Europe/Amsterdam:20230713T213000
DTSTAMP:20260420T221926
CREATED:20230515T090747Z
LAST-MODIFIED:20230620T121216Z
UID:10000640-1689269400-1689283800@www.gogaming.gg
SUMMARY:City League Qualification #5
DESCRIPTION:Ben jij samen met je duo teammate onverslaanbaar in Fortnite? Laat zien wat jullie in huis hebben en versla de rest! \nDe Alienware Fortnite Duo Championships heeft verschillende kwalificatie momenten en een grote finale op vrijdag 28 juli 2023 in het H20 Rabo Esports Stadium waar er gestreden wordt om een dikke prijzenpot. Het totale prijzengeld van de Championships bedraagt € 5.400\,-. \nMeld jezelf en je teammate aan via bovenstaande link in de button. Tickets zijn 5 euro per persoon. Wees er snel bij\, want het aantal tickets is beperkt. \nTicketprijs €5: geeft toegang tot de City League of Regionale Kwalificaties en is incl. 1 drankje en snack. Meedoen is mogelijk vanaf 12 jaar. \nPROGRAMMA\n17:30 – Get in bij Go!Gaming om warm te spelen\n18:30 – Warmspelen voorbij\, voorbereiden op Fortnite Game 1\n19:00 – Start Game 1 \nBE ON TIME!
URL:https://www.gogaming.gg/event/city-league-qualification-5/
LOCATION:Elke Go!Gaming Locatie\, Nederland
CATEGORIES:Competitie
ATTACH;FMTTYPE=image/png:https://www.gogaming.gg/wp-content/uploads/2023/05/AFDC_WebsiteBanner_768x250.png
END:VEVENT
BEGIN:VEVENT
DTSTART;TZID=Europe/Amsterdam:20230719T190000
DTEND;TZID=Europe/Amsterdam:20230719T230000
DTSTAMP:20260420T221926
CREATED:20220610T121241Z
LAST-MODIFIED:20230614T113639Z
UID:10000453-1689793200-1689807600@www.gogaming.gg
SUMMARY:Battle Royale Night
DESCRIPTION:Op woensdag van 19:00 tot 23:00 kun je bij elke GoGaming locatie terecht voor de wekelijkse Battle Royale Night. 3 uur lang kun je strijden voor de victory royales op onze gloednieuwe PC’s en consoles! \nStrijd jij mee tijdens de wekelijkse Battle Royale Night? Met een ticket ontvang je 3 uur gametime en een drankje naar keuze. Voor elke win krijg je direct Go!Coins op je account! \nDeelnemende games: \n\nFortnite\nFall Guys\nApex Legends\nPUBG\nCall of Duty: Warzone\n\nJe kan inloggen op je eigen account of gebruik maken van één van onze accounts om deze games te spelen.
URL:https://www.gogaming.gg/event/battle-royale-night-2022-07-06/2023-07-19/
LOCATION:Elke Go!Gaming Locatie\, Nederland
CATEGORIES:Thema Avond
ATTACH;FMTTYPE=image/png:https://www.gogaming.gg/wp-content/uploads/2021/12/Header_BattleRoyale.png
END:VEVENT
BEGIN:VEVENT
DTSTART;TZID=Europe/Amsterdam:20230726T190000
DTEND;TZID=Europe/Amsterdam:20230726T230000
DTSTAMP:20260420T221926
CREATED:20220610T121241Z
LAST-MODIFIED:20230614T113639Z
UID:10000454-1690398000-1690412400@www.gogaming.gg
SUMMARY:Battle Royale Night
DESCRIPTION:Op woensdag van 19:00 tot 23:00 kun je bij elke GoGaming locatie terecht voor de wekelijkse Battle Royale Night. 3 uur lang kun je strijden voor de victory royales op onze gloednieuwe PC’s en consoles! \nStrijd jij mee tijdens de wekelijkse Battle Royale Night? Met een ticket ontvang je 3 uur gametime en een drankje naar keuze. Voor elke win krijg je direct Go!Coins op je account! \nDeelnemende games: \n\nFortnite\nFall Guys\nApex Legends\nPUBG\nCall of Duty: Warzone\n\nJe kan inloggen op je eigen account of gebruik maken van één van onze accounts om deze games te spelen.
URL:https://www.gogaming.gg/event/battle-royale-night-2022-07-06/2023-07-26/
LOCATION:Elke Go!Gaming Locatie\, Nederland
CATEGORIES:Thema Avond
ATTACH;FMTTYPE=image/png:https://www.gogaming.gg/wp-content/uploads/2021/12/Header_BattleRoyale.png
END:VEVENT
BEGIN:VEVENT
DTSTART;TZID=Europe/Amsterdam:20230728T120000
DTEND;TZID=Europe/Amsterdam:20230728T180000
DTSTAMP:20260420T221926
CREATED:20230515T110803Z
LAST-MODIFIED:20230614T104531Z
UID:10000643-1690545600-1690567200@www.gogaming.gg
SUMMARY:Grand Final @ H20 Rabo Esports Stadium
DESCRIPTION:Welk duo gaat er met de hoofdprijs vandoor? Kom ze aanmoedingen! \nKom jij naar de finale van de Alienware Fortnite Duo Championship? \n\nWil je meedoen als speler samen met je duo? \nSchrijf je dan nu in en ga voor de hoofdprijs van €1500\, de totale prijzenpot is €5400! \nKom je graag als toeschouwer langs? Dat kan door je gratis aan te melden via bovenstaande button!
URL:https://www.gogaming.gg/event/grand-final-h20-rabo-esports-stadium/
LOCATION:Go!Gaming Purmerend\, Spinnekop 2-3\, Purmerend\, 1444GN\, Nederland
CATEGORIES:Competitie
ATTACH;FMTTYPE=image/png:https://www.gogaming.gg/wp-content/uploads/2023/05/AFDC_WebsiteBanner_768x250.png
END:VEVENT
END:VCALENDAR