BEGIN:VCALENDAR
VERSION:2.0
PRODID:-//Go!Gaming - ECPv6.2.3.2//NONSGML v1.0//EN
CALSCALE:GREGORIAN
METHOD:PUBLISH
X-ORIGINAL-URL:https://www.gogaming.gg
X-WR-CALDESC:Evenementen voor Go!Gaming
REFRESH-INTERVAL;VALUE=DURATION:PT1H
X-Robots-Tag:noindex
X-PUBLISHED-TTL:PT1H
BEGIN:VTIMEZONE
TZID:Europe/Amsterdam
BEGIN:DAYLIGHT
TZOFFSETFROM:+0100
TZOFFSETTO:+0200
TZNAME:CEST
DTSTART:20230326T010000
END:DAYLIGHT
BEGIN:STANDARD
TZOFFSETFROM:+0200
TZOFFSETTO:+0100
TZNAME:CET
DTSTART:20231029T010000
END:STANDARD
END:VTIMEZONE
BEGIN:VEVENT
DTSTART;TZID=Europe/Amsterdam:20230802T190000
DTEND;TZID=Europe/Amsterdam:20230802T230000
DTSTAMP:20260420T221935
CREATED:20220610T121241Z
LAST-MODIFIED:20230614T113639Z
UID:10000455-1691002800-1691017200@www.gogaming.gg
SUMMARY:Battle Royale Night
DESCRIPTION:Op woensdag van 19:00 tot 23:00 kun je bij elke GoGaming locatie terecht voor de wekelijkse Battle Royale Night. 3 uur lang kun je strijden voor de victory royales op onze gloednieuwe PC’s en consoles! \nStrijd jij mee tijdens de wekelijkse Battle Royale Night? Met een ticket ontvang je 3 uur gametime en een drankje naar keuze. Voor elke win krijg je direct Go!Coins op je account! \nDeelnemende games: \n\nFortnite\nFall Guys\nApex Legends\nPUBG\nCall of Duty: Warzone\n\nJe kan inloggen op je eigen account of gebruik maken van één van onze accounts om deze games te spelen.
URL:https://www.gogaming.gg/event/battle-royale-night-2022-07-06/2023-08-02/
LOCATION:Elke Go!Gaming Locatie\, Nederland
CATEGORIES:Thema Avond
ATTACH;FMTTYPE=image/png:https://www.gogaming.gg/wp-content/uploads/2021/12/Header_BattleRoyale.png
END:VEVENT
BEGIN:VEVENT
DTSTART;TZID=Europe/Amsterdam:20230806T190000
DTEND;TZID=Europe/Amsterdam:20230806T235900
DTSTAMP:20260420T221935
CREATED:20230728T124108Z
LAST-MODIFIED:20230803T150910Z
UID:10000804-1691348400-1691366340@www.gogaming.gg
SUMMARY:VCT  Valorant Champions Team Liquid H20 Esports Viewing Party
DESCRIPTION:Team Liquid organiseert een officiële viewing party voor het aankomende VALORANT Champions Tournament. Kom samen met Team Liquid de Team Liquid wedstrijden kijken bij de H20 Esports Campus. Beleef de wedstrijden met elkaar en maak kans op toffe giveaways en prijzen!  \nNa de viewing party gaan we nog een Valorant toernootje met ontzettend gave Team Liquid prijzen. Zo maak je kans op een Official Team Liquid Jersey of de Blue Plushy 2.0. Er wordt een swift format gespeeld.  \nDit wil je zeker niet missen\, ervaar het grootste VALORANT toernooi samen met Team Liquid bij de H20 Esports Campus! Claim je ticket door je in te schrijven en we zien je binnenkort! \n19:00 – Get in –\n19:30 – VALORANT Swift Tournament\n21:00 – Team Liquid Watch Party Valorant Champions\n00:00 – Estimated end time\n  \n 
URL:https://www.gogaming.gg/event/vct-valorant-champions-team-liquid-h20-esports-viewing-party/
LOCATION:Go!Gaming Purmerend\, Spinnekop 2-3\, Purmerend\, 1444GN\, Nederland
CATEGORIES:Viewing Party
ATTACH;FMTTYPE=image/png:https://www.gogaming.gg/wp-content/uploads/2023/07/Banner-1200x450-1.png
END:VEVENT
BEGIN:VEVENT
DTSTART;TZID=Europe/Amsterdam:20230809T190000
DTEND;TZID=Europe/Amsterdam:20230809T230000
DTSTAMP:20260420T221935
CREATED:20220610T121241Z
LAST-MODIFIED:20230614T113639Z
UID:10000456-1691607600-1691622000@www.gogaming.gg
SUMMARY:Battle Royale Night
DESCRIPTION:Op woensdag van 19:00 tot 23:00 kun je bij elke GoGaming locatie terecht voor de wekelijkse Battle Royale Night. 3 uur lang kun je strijden voor de victory royales op onze gloednieuwe PC’s en consoles! \nStrijd jij mee tijdens de wekelijkse Battle Royale Night? Met een ticket ontvang je 3 uur gametime en een drankje naar keuze. Voor elke win krijg je direct Go!Coins op je account! \nDeelnemende games: \n\nFortnite\nFall Guys\nApex Legends\nPUBG\nCall of Duty: Warzone\n\nJe kan inloggen op je eigen account of gebruik maken van één van onze accounts om deze games te spelen.
URL:https://www.gogaming.gg/event/battle-royale-night-2022-07-06/2023-08-09/
LOCATION:Elke Go!Gaming Locatie\, Nederland
CATEGORIES:Thema Avond
ATTACH;FMTTYPE=image/png:https://www.gogaming.gg/wp-content/uploads/2021/12/Header_BattleRoyale.png
END:VEVENT
BEGIN:VEVENT
DTSTART;TZID=Europe/Amsterdam:20230816T190000
DTEND;TZID=Europe/Amsterdam:20230816T230000
DTSTAMP:20260420T221935
CREATED:20230810T082645Z
LAST-MODIFIED:20230810T082646Z
UID:10000457-1692212400-1692226800@www.gogaming.gg
SUMMARY:Battle Royale Night
DESCRIPTION:Op woensdag van 19:00 tot 23:00 kun je bij elke GoGaming locatie terecht voor de wekelijkse Battle Royale Night. 3 uur lang kun je strijden voor de victory royales op onze gloednieuwe PC’s en consoles! \nStrijd jij mee tijdens de wekelijkse Battle Royale Night? Met een ticket ontvang je 3 uur gametime en een drankje naar keuze. Voor elke win krijg je direct Go!Coins op je account! \nDeelnemende games: \n\nFortnite\nFall Guys\nApex Legends\nPUBG\nCall of Duty: Warzone\n\nJe kan inloggen op je eigen account of gebruik maken van één van onze accounts om deze games te spelen.
URL:https://www.gogaming.gg/event/battle-royale-night-2022-07-06-2/2023-08-16/
LOCATION:Elke Go!Gaming Locatie\, Nederland
CATEGORIES:Thema Avond
ATTACH;FMTTYPE=image/png:https://www.gogaming.gg/wp-content/uploads/2021/12/Header_BattleRoyale.png
END:VEVENT
BEGIN:VEVENT
DTSTART;TZID=Europe/Amsterdam:20230823T190000
DTEND;TZID=Europe/Amsterdam:20230823T230000
DTSTAMP:20260420T221935
CREATED:20230810T082645Z
LAST-MODIFIED:20230810T082646Z
UID:10000458-1692817200-1692831600@www.gogaming.gg
SUMMARY:Battle Royale Night
DESCRIPTION:Op woensdag van 19:00 tot 23:00 kun je bij elke GoGaming locatie terecht voor de wekelijkse Battle Royale Night. 3 uur lang kun je strijden voor de victory royales op onze gloednieuwe PC’s en consoles! \nStrijd jij mee tijdens de wekelijkse Battle Royale Night? Met een ticket ontvang je 3 uur gametime en een drankje naar keuze. Voor elke win krijg je direct Go!Coins op je account! \nDeelnemende games: \n\nFortnite\nFall Guys\nApex Legends\nPUBG\nCall of Duty: Warzone\n\nJe kan inloggen op je eigen account of gebruik maken van één van onze accounts om deze games te spelen.
URL:https://www.gogaming.gg/event/battle-royale-night-2022-07-06-2/2023-08-23/
LOCATION:Elke Go!Gaming Locatie\, Nederland
CATEGORIES:Thema Avond
ATTACH;FMTTYPE=image/png:https://www.gogaming.gg/wp-content/uploads/2021/12/Header_BattleRoyale.png
END:VEVENT
BEGIN:VEVENT
DTSTART;TZID=Europe/Amsterdam:20230830T190000
DTEND;TZID=Europe/Amsterdam:20230830T230000
DTSTAMP:20260420T221935
CREATED:20230810T082645Z
LAST-MODIFIED:20230810T082646Z
UID:10000459-1693422000-1693436400@www.gogaming.gg
SUMMARY:Battle Royale Night
DESCRIPTION:Op woensdag van 19:00 tot 23:00 kun je bij elke GoGaming locatie terecht voor de wekelijkse Battle Royale Night. 3 uur lang kun je strijden voor de victory royales op onze gloednieuwe PC’s en consoles! \nStrijd jij mee tijdens de wekelijkse Battle Royale Night? Met een ticket ontvang je 3 uur gametime en een drankje naar keuze. Voor elke win krijg je direct Go!Coins op je account! \nDeelnemende games: \n\nFortnite\nFall Guys\nApex Legends\nPUBG\nCall of Duty: Warzone\n\nJe kan inloggen op je eigen account of gebruik maken van één van onze accounts om deze games te spelen.
URL:https://www.gogaming.gg/event/battle-royale-night-2022-07-06-2/2023-08-30/
LOCATION:Elke Go!Gaming Locatie\, Nederland
CATEGORIES:Thema Avond
ATTACH;FMTTYPE=image/png:https://www.gogaming.gg/wp-content/uploads/2021/12/Header_BattleRoyale.png
END:VEVENT
BEGIN:VEVENT
DTSTART;TZID=Europe/Amsterdam:20230831T180000
DTEND;TZID=Europe/Amsterdam:20230831T220000
DTSTAMP:20260420T221935
CREATED:20230818T150952Z
LAST-MODIFIED:20230918T112514Z
UID:10000901-1693504800-1693519200@www.gogaming.gg
SUMMARY:Ladies Party by Alienware back to school
DESCRIPTION:In aanloop naar de speciale Queens of the Arena by Alienware event bij de H20 Esports Campus op zaterdag 30 september organiseren we speciale Ladies Parties bij Go!Gaming om je gaming skills te verbeteren. \nKom naar Go!Gaming\, speciaal voor onze vrouwelijke gamers biedt onze partner Alienware een leuke gaming avond aan voor jou en je vriendin(nen). \nSchrijf je in en kom 2 uur lang gratis gamen bij Go!Gaming om je game skills flink te verbeteren. \nDe Ladies Party vindt plaats bij: \n\nGo!Gaming Maastricht\nGo!Gaming Nijmegen\nGo!Gaming Utrecht\n\nJe kan je inschrijven voor het blok van 18u tot 20u of 20u tot 22u. Tickets zijn beperkt\, dus op = op! Klik op bovenstaande link om je aan te melden. \nMeer informatie over de Queen of the Arena community day: klik hier \nBovendien heeft Alienware nu een back to school actie lopen. Scan de QR code of ga naar deze website en check de aanbiedingen! \n \n 
URL:https://www.gogaming.gg/event/ladies-party-by-alienware-back-to-school/2023-08-31/
LOCATION:Meerdere locaties\, check de informatie.\, Nederland
CATEGORIES:Thema Avond
ATTACH;FMTTYPE=image/jpeg:https://www.gogaming.gg/wp-content/uploads/2023/09/Website-header-1.jpg
END:VEVENT
END:VCALENDAR