BEGIN:VCALENDAR
VERSION:2.0
PRODID:-//Go!Gaming - ECPv6.2.3.2//NONSGML v1.0//EN
CALSCALE:GREGORIAN
METHOD:PUBLISH
X-ORIGINAL-URL:https://www.gogaming.gg
X-WR-CALDESC:Evenementen voor Go!Gaming
REFRESH-INTERVAL;VALUE=DURATION:PT1H
X-Robots-Tag:noindex
X-PUBLISHED-TTL:PT1H
BEGIN:VTIMEZONE
TZID:Europe/Amsterdam
BEGIN:DAYLIGHT
TZOFFSETFROM:+0100
TZOFFSETTO:+0200
TZNAME:CEST
DTSTART:20230326T010000
END:DAYLIGHT
BEGIN:STANDARD
TZOFFSETFROM:+0200
TZOFFSETTO:+0100
TZNAME:CET
DTSTART:20231029T010000
END:STANDARD
END:VTIMEZONE
BEGIN:VEVENT
DTSTART;TZID=Europe/Amsterdam:20230907T180000
DTEND;TZID=Europe/Amsterdam:20230907T220000
DTSTAMP:20260420T174859
CREATED:20230818T150952Z
LAST-MODIFIED:20230918T112514Z
UID:10000902-1694109600-1694124000@www.gogaming.gg
SUMMARY:Ladies Party by Alienware back to school
DESCRIPTION:In aanloop naar de speciale Queens of the Arena by Alienware event bij de H20 Esports Campus op zaterdag 30 september organiseren we speciale Ladies Parties bij Go!Gaming om je gaming skills te verbeteren. \nKom naar Go!Gaming\, speciaal voor onze vrouwelijke gamers biedt onze partner Alienware een leuke gaming avond aan voor jou en je vriendin(nen). \nSchrijf je in en kom 2 uur lang gratis gamen bij Go!Gaming om je game skills flink te verbeteren. \nDe Ladies Party vindt plaats bij: \n\nGo!Gaming Maastricht\nGo!Gaming Nijmegen\nGo!Gaming Utrecht\n\nJe kan je inschrijven voor het blok van 18u tot 20u of 20u tot 22u. Tickets zijn beperkt\, dus op = op! Klik op bovenstaande link om je aan te melden. \nMeer informatie over de Queen of the Arena community day: klik hier \nBovendien heeft Alienware nu een back to school actie lopen. Scan de QR code of ga naar deze website en check de aanbiedingen! \n \n 
URL:https://www.gogaming.gg/event/ladies-party-by-alienware-back-to-school/2023-09-07/
LOCATION:Meerdere locaties\, check de informatie.\, Nederland
CATEGORIES:Thema Avond
ATTACH;FMTTYPE=image/jpeg:https://www.gogaming.gg/wp-content/uploads/2023/09/Website-header-1.jpg
END:VEVENT
BEGIN:VEVENT
DTSTART;TZID=Europe/Amsterdam:20230914T180000
DTEND;TZID=Europe/Amsterdam:20230914T220000
DTSTAMP:20260420T174859
CREATED:20230818T150952Z
LAST-MODIFIED:20230918T112514Z
UID:10000903-1694714400-1694728800@www.gogaming.gg
SUMMARY:Ladies Party by Alienware back to school
DESCRIPTION:In aanloop naar de speciale Queens of the Arena by Alienware event bij de H20 Esports Campus op zaterdag 30 september organiseren we speciale Ladies Parties bij Go!Gaming om je gaming skills te verbeteren. \nKom naar Go!Gaming\, speciaal voor onze vrouwelijke gamers biedt onze partner Alienware een leuke gaming avond aan voor jou en je vriendin(nen). \nSchrijf je in en kom 2 uur lang gratis gamen bij Go!Gaming om je game skills flink te verbeteren. \nDe Ladies Party vindt plaats bij: \n\nGo!Gaming Maastricht\nGo!Gaming Nijmegen\nGo!Gaming Utrecht\n\nJe kan je inschrijven voor het blok van 18u tot 20u of 20u tot 22u. Tickets zijn beperkt\, dus op = op! Klik op bovenstaande link om je aan te melden. \nMeer informatie over de Queen of the Arena community day: klik hier \nBovendien heeft Alienware nu een back to school actie lopen. Scan de QR code of ga naar deze website en check de aanbiedingen! \n \n 
URL:https://www.gogaming.gg/event/ladies-party-by-alienware-back-to-school/2023-09-14/
LOCATION:Meerdere locaties\, check de informatie.\, Nederland
CATEGORIES:Thema Avond
ATTACH;FMTTYPE=image/jpeg:https://www.gogaming.gg/wp-content/uploads/2023/09/Website-header-1.jpg
END:VEVENT
BEGIN:VEVENT
DTSTART;TZID=Europe/Amsterdam:20230916T110000
DTEND;TZID=Europe/Amsterdam:20230916T140000
DTSTAMP:20260420T174859
CREATED:20230804T092956Z
LAST-MODIFIED:20230906T115730Z
UID:10000808-1694862000-1694872800@www.gogaming.gg
SUMMARY:Qualification #2 Dutch Media Finals Featuring Rocket League @ KPN E-Truck & H20
DESCRIPTION:Kom je kwalificeren voor de Dutch Media Finals Featuring Rocket League tijdens de Dutch Media Week. Op diverse momenten kun je bij Go!Gaming\, H20 en de KPN E-truck strijden om een ticket tot de finale. \nDe kosten zijn 4 euro per persoon. Het team (3 personen) betaalt in één keer bij het kopen van tickets. Dit event vindt plaats in de KPN E-truck in Hilversum Centrum en H20 Esports Campus. \nMeld je na het betalen van de tickets aan bij deze site. Hier kun je ook de laatste informatie vinden.
URL:https://www.gogaming.gg/event/qualification-kpn-dutch-media-finals-featuring-rocket-league/
LOCATION:Meerdere locaties\, check de informatie.\, Nederland
CATEGORIES:Toernooi
ATTACH;FMTTYPE=image/png:https://www.gogaming.gg/wp-content/uploads/2023/08/DMW_1600x480_02.png
END:VEVENT
BEGIN:VEVENT
DTSTART;TZID=Europe/Amsterdam:20230916T110000
DTEND;TZID=Europe/Amsterdam:20230916T140000
DTSTAMP:20260420T174859
CREATED:20230804T093144Z
LAST-MODIFIED:20230906T120203Z
UID:10000806-1694862000-1694872800@www.gogaming.gg
SUMMARY:Qualification #2 Dutch Media Finals Featuring Rocket League
DESCRIPTION:Kom je kwalificeren voor de Dutch Media Finals Featuring Rocket League tijdens de Dutch Media Week. Op diverse momenten kun je bij Go!Gaming en de KPN E-truck strijden om een ticket tot de finale. \nDe kosten zijn 4 euro per persoon. Het team (3 personen) betaalt in één keer bij het kopen van tickets. Meld je aan via bovenstaande button! \nMeld je na het betalen van de tickets aan bij deze site. Hier kun je ook de laatste informatie vinden. Dit event op 16 september vindt plaats in Go!Gaming Nijmegen. \n 
URL:https://www.gogaming.gg/event/qualification-2-dutch-media-finals-featuring-rocket-league/
LOCATION:Meerdere locaties\, check de informatie.\, Nederland
CATEGORIES:Toernooi
ATTACH;FMTTYPE=image/png:https://www.gogaming.gg/wp-content/uploads/2023/08/DMW_1600x480_02.png
END:VEVENT
BEGIN:VEVENT
DTSTART;TZID=Europe/Amsterdam:20230921T180000
DTEND;TZID=Europe/Amsterdam:20230921T220000
DTSTAMP:20260420T174859
CREATED:20230818T150952Z
LAST-MODIFIED:20230918T112514Z
UID:10000904-1695319200-1695333600@www.gogaming.gg
SUMMARY:Ladies Party by Alienware back to school
DESCRIPTION:In aanloop naar de speciale Queens of the Arena by Alienware event bij de H20 Esports Campus op zaterdag 30 september organiseren we speciale Ladies Parties bij Go!Gaming om je gaming skills te verbeteren. \nKom naar Go!Gaming\, speciaal voor onze vrouwelijke gamers biedt onze partner Alienware een leuke gaming avond aan voor jou en je vriendin(nen). \nSchrijf je in en kom 2 uur lang gratis gamen bij Go!Gaming om je game skills flink te verbeteren. \nDe Ladies Party vindt plaats bij: \n\nGo!Gaming Maastricht\nGo!Gaming Nijmegen\nGo!Gaming Utrecht\n\nJe kan je inschrijven voor het blok van 18u tot 20u of 20u tot 22u. Tickets zijn beperkt\, dus op = op! Klik op bovenstaande link om je aan te melden. \nMeer informatie over de Queen of the Arena community day: klik hier \nBovendien heeft Alienware nu een back to school actie lopen. Scan de QR code of ga naar deze website en check de aanbiedingen! \n \n 
URL:https://www.gogaming.gg/event/ladies-party-by-alienware-back-to-school/2023-09-21/
LOCATION:Meerdere locaties\, check de informatie.\, Nederland
CATEGORIES:Thema Avond
ATTACH;FMTTYPE=image/jpeg:https://www.gogaming.gg/wp-content/uploads/2023/09/Website-header-1.jpg
END:VEVENT
BEGIN:VEVENT
DTSTART;TZID=Europe/Amsterdam:20230923T110000
DTEND;TZID=Europe/Amsterdam:20230923T140000
DTSTAMP:20260420T174859
CREATED:20230804T092930Z
LAST-MODIFIED:20230906T120204Z
UID:10000807-1695466800-1695477600@www.gogaming.gg
SUMMARY:Qualification #3 Dutch Media Finals Featuring Rocket League
DESCRIPTION:Kom je kwalificeren voor de Dutch Media Finals Featuring Rocket League tijdens de Dutch Media Week. Op diverse momenten kun je bij Go!Gaming en de KPN E-truck strijden om een ticket tot de finale. \nDe kosten zijn 4 euro per persoon. Het team (3 personen) betaalt in één keer bij het kopen van tickets. Koop je tickets via bovenstaande button! \nMeld je na het betalen van de tickets aan bij deze site. Hier kun je ook de laatste informatie vinden. \nDit event op 23 september vindt plaats in Go!Gaming Utrecht Leidsche Rijn & Rotterdam \n 
URL:https://www.gogaming.gg/event/qualification-3-dutch-media-finals-featuring-rocket-league-2/
LOCATION:Meerdere locaties\, check de informatie.\, Nederland
CATEGORIES:Toernooi
ATTACH;FMTTYPE=image/png:https://www.gogaming.gg/wp-content/uploads/2023/08/DMW_1600x480_02.png
END:VEVENT
BEGIN:VEVENT
DTSTART;TZID=Europe/Amsterdam:20230930T100000
DTEND;TZID=Europe/Amsterdam:20230930T200000
DTSTAMP:20260420T174859
CREATED:20230818T151157Z
LAST-MODIFIED:20230918T112624Z
UID:10000810-1696068000-1696104000@www.gogaming.gg
SUMMARY:Queens of the Arena by Alienware
DESCRIPTION:Wil jij top esports vrouwen in VALORANT zien strijden om de winst? Kom dan op zaterdag 30 september naar de Queen of the Arena by Alienware in het Rabo Esports Stadium. \nTijdens deze dat zijn er twee ladies VALORANT teams aanwezig uit NL en België die tegen elkaar gaan strijden. \nMaar er is nog meer te doen op deze dag: \n\nVALORANT Game Training door een coach\nFree to Play Area\nSwift Tournament\n\nProgramma (indicatie) \n10:00 – Doors Open\n11:00 – Game Training\n13:00 – Showmatch\n15:00 – Swift Tournament\n17:00 – DJ & Drinks & Bites\n19:00 – Close Event
URL:https://www.gogaming.gg/event/queens-of-the-arena-by-alienware/
LOCATION:Go!Gaming Purmerend\, Spinnekop 2-3\, Purmerend\, 1444GN\, Nederland
CATEGORIES:Overig
ATTACH;FMTTYPE=image/jpeg:https://www.gogaming.gg/wp-content/uploads/2023/08/Website-header-2.jpg
END:VEVENT
BEGIN:VEVENT
DTSTART;TZID=Europe/Amsterdam:20230930T110000
DTEND;TZID=Europe/Amsterdam:20230930T140000
DTSTAMP:20260420T174859
CREATED:20230804T093301Z
LAST-MODIFIED:20230906T195528Z
UID:10000805-1696071600-1696082400@www.gogaming.gg
SUMMARY:Qualification #1 Dutch Media Finals Featuring Rocket League
DESCRIPTION:Kom je kwalificeren voor de Dutch Media Finals Featuring Rocket League tijdens de Dutch Media Week. Op diverse momenten kun je bij Go!Gaming en de KPN E-truck strijden om een ticket tot de finale. \nDe kosten zijn 4 euro per persoon. Het team (3 personen) betaalt in één keer bij het kopen van tickets. Meld je aan via bovenstaande button! \nMeld je na het betalen van de tickets aan bij deze site. Hier kun je ook de laatste informatie vinden. Dit event vindt op 30 september plaats in Go!Gaming Groningen & Maastricht.
URL:https://www.gogaming.gg/event/qualification-1-dutch-media-finals-featuring-rocket-league/
LOCATION:Meerdere locaties\, check de informatie.\, Nederland
CATEGORIES:Toernooi
ATTACH;FMTTYPE=image/png:https://www.gogaming.gg/wp-content/uploads/2023/08/DMW_1600x480_02.png
END:VEVENT
END:VCALENDAR