BEGIN:VCALENDAR
VERSION:2.0
PRODID:-//Go!Gaming - ECPv6.2.3.2//NONSGML v1.0//EN
CALSCALE:GREGORIAN
METHOD:PUBLISH
X-ORIGINAL-URL:https://www.gogaming.gg
X-WR-CALDESC:Evenementen voor Go!Gaming
REFRESH-INTERVAL;VALUE=DURATION:PT1H
X-Robots-Tag:noindex
X-PUBLISHED-TTL:PT1H
BEGIN:VTIMEZONE
TZID:Europe/Amsterdam
BEGIN:DAYLIGHT
TZOFFSETFROM:+0100
TZOFFSETTO:+0200
TZNAME:CEST
DTSTART:20230326T010000
END:DAYLIGHT
BEGIN:STANDARD
TZOFFSETFROM:+0200
TZOFFSETTO:+0100
TZNAME:CET
DTSTART:20231029T010000
END:STANDARD
END:VTIMEZONE
BEGIN:VEVENT
DTSTART;TZID=Europe/Amsterdam:20231118T100000
DTEND;TZID=Europe/Amsterdam:20231119T170000
DTSTAMP:20260420T150111
CREATED:20231026T115228Z
LAST-MODIFIED:20231026T115515Z
UID:10000911-1700301600-1700413200@www.gogaming.gg
SUMMARY:Openingsweekend Go!Gaming Eindhoven
DESCRIPTION:Kom jij ook naar het spetterende openingsweekend van Go!Gaming Eindhoven? We hebben tijdens dat weekend een aantal toffe events gepland staan: \nZaterdag 18 november: Kom 1\,5 uur gamen voor een introductie tarief van 2 euro. Alle opbrengsten van ticket verkoop worden gedoneerd aan Make-a-Wish Nederland. Klik op bovenstaande button om je tijdslot te reserveren. \n \nZondag 19 november: dan organiseren we samen met Pathé één van de grootste gaming events van het jaar: de viewing party van  League of Legends Worlds 2023. Klik hier voor meer informatie en ticketverkoop.
URL:https://www.gogaming.gg/event/openingsweekend-gogaming-eindhoven/
CATEGORIES:Overig,Viewing Party
ATTACH;FMTTYPE=image/jpeg:https://www.gogaming.gg/wp-content/uploads/2023/10/Eindhoven_openingsweekend-1.jpg
END:VEVENT
BEGIN:VEVENT
DTSTART;TZID=Europe/Amsterdam:20231119T083000
DTEND;TZID=Europe/Amsterdam:20231119T140000
DTSTAMP:20260420T150111
CREATED:20231026T113144Z
LAST-MODIFIED:20231026T130809Z
UID:10000909-1700382600-1700402400@www.gogaming.gg
SUMMARY:League of Legends Worlds 2023 by Alienware
DESCRIPTION:De League of Legends Worlds powered by Alienware zijn weer in aantocht. Dit jaar wordt de Worlds Finale live vanuit Zuid Korea uitgezonden op zondag 19 november om 8:30u in de ochtend. Uiteraard werken we weer samen met Pathé om deze Viewing Party naar the next level te brengen. Deelnemende bioscopen: \nPathé Eindhoven\nPathé Groningen\nPathé Maastricht\nPathé Nijmegen\nPathé Schouwburgplein\nPathé Utrecht Leidsche Rijn \nGo!Gaming organiseert meteen na de viewing party een 1v1 toernooi. Doe mee en maak kans op leuke prijzen mede mogelijk gemaakt door Alienware. Let op er zijn beperkt plekken beschikbaar voor dit event.  Klik hier voor meer informatie
URL:https://www.gogaming.gg/event/league-of-legends-worlds-2023-by-alienware/
LOCATION:Elke Go!Gaming Locatie\, Nederland
CATEGORIES:Viewing Party
ATTACH;FMTTYPE=image/jpeg:https://www.gogaming.gg/wp-content/uploads/2023/10/1080x1080-2.jpg
END:VEVENT
BEGIN:VEVENT
DTSTART;TZID=Europe/Amsterdam:20231119T140000
DTEND;TZID=Europe/Amsterdam:20231119T170000
DTSTAMP:20260420T150111
CREATED:20231026T114023Z
LAST-MODIFIED:20231110T105201Z
UID:10000910-1700402400-1700413200@www.gogaming.gg
SUMMARY:LoL 1v1 Tournament by Alienware
DESCRIPTION:Go!Gaming organiseert meteen na de viewing party een 1v1 toernooi. Doe mee en maak kans op leuke prijzen mede mogelijk gemaakt door Alienware. Let op er zijn beperkt plekken beschikbaar voor dit event en tickets zijn alleen beschikbaar voor bezoekers van LoL Worlds 2023. \nHoe kom ik aan tickets? \n\nKlik op bovenstaande button\nSelecteer je locatie\nSelecteer events\nKies de juiste data en koop je tickets!
URL:https://www.gogaming.gg/event/lol-1v1-tournament-by-alienware/
LOCATION:Elke Go!Gaming Locatie\, Nederland
CATEGORIES:Toernooi
ATTACH;FMTTYPE=image/png:https://www.gogaming.gg/wp-content/uploads/2023/10/Scherm­afbeelding-2023-10-26-om-13.37.13.png
END:VEVENT
END:VCALENDAR